BEGIN:VCALENDAR
VERSION:2.0
PRODID:-//Region 10 Sweet Adelines - ECPv6.15.20//NONSGML v1.0//EN
CALSCALE:GREGORIAN
METHOD:PUBLISH
X-WR-CALNAME:Region 10 Sweet Adelines
X-ORIGINAL-URL:https://region10sai.org
X-WR-CALDESC:Events for Region 10 Sweet Adelines
REFRESH-INTERVAL;VALUE=DURATION:PT1H
X-Robots-Tag:noindex
X-PUBLISHED-TTL:PT1H
BEGIN:VTIMEZONE
TZID:America/Chicago
BEGIN:DAYLIGHT
TZOFFSETFROM:-0600
TZOFFSETTO:-0500
TZNAME:CDT
DTSTART:20230312T080000
END:DAYLIGHT
BEGIN:STANDARD
TZOFFSETFROM:-0500
TZOFFSETTO:-0600
TZNAME:CST
DTSTART:20231105T070000
END:STANDARD
BEGIN:DAYLIGHT
TZOFFSETFROM:-0600
TZOFFSETTO:-0500
TZNAME:CDT
DTSTART:20240310T080000
END:DAYLIGHT
BEGIN:STANDARD
TZOFFSETFROM:-0500
TZOFFSETTO:-0600
TZNAME:CST
DTSTART:20241103T070000
END:STANDARD
BEGIN:DAYLIGHT
TZOFFSETFROM:-0600
TZOFFSETTO:-0500
TZNAME:CDT
DTSTART:20250309T080000
END:DAYLIGHT
BEGIN:STANDARD
TZOFFSETFROM:-0500
TZOFFSETTO:-0600
TZNAME:CST
DTSTART:20251102T070000
END:STANDARD
BEGIN:DAYLIGHT
TZOFFSETFROM:-0600
TZOFFSETTO:-0500
TZNAME:CDT
DTSTART:20260308T080000
END:DAYLIGHT
BEGIN:STANDARD
TZOFFSETFROM:-0500
TZOFFSETTO:-0600
TZNAME:CST
DTSTART:20261101T070000
END:STANDARD
END:VTIMEZONE
BEGIN:VEVENT
DTSTART;VALUE=DATE:20241001
DTEND;VALUE=DATE:20250323
DTSTAMP:20260419T234401
CREATED:20241010T165153Z
LAST-MODIFIED:20250806T224818Z
UID:21526-1727740800-1742687999@region10sai.org
SUMMARY:Convention Sponsorship Campaign
DESCRIPTION:  \n\n\n\n\nThis campaign will end at Midnight on the final night of our convention (March 22\, 2025). Our goal is $15\,000.\nWhile our membership numbers have decreased somewhat over the years\, prices continue to rise. We launched this campaign in an effort to keep prices affordable for our members. Please share our sponsorship campaign letter with your family\, friends and businesses that you frequent.  If each member of Region 10 brings in just $100\, we can exceed our goal\, twice over!  We look forward to a spectacular regional contest in March!\nThank you\, in advance\, for your participation in this campaign. \n\n\nEvent graphics provided by Laura DeGraw.
URL:https://region10sai.org/event/sponsorships/
LOCATION:TX
CATEGORIES:Region 10 Events
ATTACH;FMTTYPE=image/png:https://region10sai.org/wp-content/uploads/2024/10/2025-Sponsorship-Campaign-Event.png
END:VEVENT
BEGIN:VEVENT
DTSTART;VALUE=DATE:20240928
DTEND;VALUE=DATE:20240929
DTSTAMP:20260419T234401
CREATED:20240824T031041Z
LAST-MODIFIED:20240824T031610Z
UID:21420-1727481600-1727567999@region10sai.org
SUMMARY:Chapter Event: Chisholm Trail - An Amazon Adventure
DESCRIPTION:Chisholm Trail Chorus Presents “An Amazon Adventure”\n9/28/2024\nDoors at 3pm\, Show at 4pm\nCultural Arts Center: 3011 N. 3rd Street\, Temple\, TX 76501\nJoin Chisholm Trail Chorus on a boat trip down the Amazon River\, where adventures abound! Tour guide Lily Paddington keeps tourists entertained while botanist Flora d’Vine shares her unique knowledge along the way. Many surprises await as we sing our way back to the dock. Silent auction and cash-and-carry small plant sale begin at 3 p.m. to support the chorus’ Amazon Adventure. Returning highlights are the live cake auction during intermission and guest performers 2022 Sweet Adeline Diamond Division Quartet International Champions\, Madison Avenue. \nTickets $20 advance; $25 at the door. All seats reserved. All proceeds support the chorus.\n\n\n\n 
URL:https://region10sai.org/event/chisholmtrail-amazon2024/
LOCATION:Cultural Activities Center\, 3011 N. 3rd St.\, Temple\, TX\, 76501\, United States
CATEGORIES:Chapter Shows
ATTACH;FMTTYPE=image/png:https://region10sai.org/wp-content/uploads/2023/07/Chapter-Event.png
END:VEVENT
BEGIN:VEVENT
DTSTART;VALUE=DATE:20240824
DTEND;VALUE=DATE:20240825
DTSTAMP:20260419T234401
CREATED:20240824T021306Z
LAST-MODIFIED:20240825T050642Z
UID:21406-1724457600-1724543999@region10sai.org
SUMMARY:Quartet Event: Saving Grace - KC Benefit Concert
DESCRIPTION:Come support Saving Grace as we prepare for the upcoming international contest in Kansas City\, Missouri. Join us for an afternoon of barbershop entertainment! You’ll laugh\, you’ll cry\, and you might help us raise some money! We are looking forward to representing Great Gulf Coast Region 10 at the Sweet Adelines International convention in Kansas City this fall! The concert will be open to the public with a $10 suggested donation at the door.\n\n\n\nThe concert will be held at Boerne Church of Christ\, located at 1 Upper Balcones Rd\, Boerne\, TX 78006. This event begins at 2:00pm.\n\n\nSGQ Benefit Concert Program\nSGQ Benefit Concert Slides PDF\n\n\nJoin us for our Quartet Benefit Concert with Essence\, Blue Baris\, and Bejeweled!\n\n\nSaving Grace will be representing Great Gulf Coast Region 10 at the Sweet Adelines International convention in Kansas City this fall!\n\n\n\n\n\nTo donate: https://account.venmo.com/u/savinggracequartet\n\n\nFor merch: https://www.customquartetstuff.com/collections/saving-grace\n\n\n\nThank you for your support!\n\n\nYou can also VIEW THE LIVESTREAM ON OUR FACEBOOK PAGE!\nDon’t miss lots of barbershop and help send us on our way!
URL:https://region10sai.org/event/kcbenefit2024/
LOCATION:Boerne Church of Christ\, 1 Upper Balcones Rd.\, Boerne\, TX\, 78006\, United States
CATEGORIES:Chapter Shows
END:VEVENT
BEGIN:VEVENT
DTSTART;VALUE=DATE:20240810
DTEND;VALUE=DATE:20240811
DTSTAMP:20260419T234401
CREATED:20240518T185334Z
LAST-MODIFIED:20250806T224500Z
UID:21189-1723248000-1723334399@region10sai.org
SUMMARY:Summer Splash (East)
DESCRIPTION:You are invited to join our Education Coordinator – Kerri Mauney – for our Summer Splash (East) event! Learn our new regional song; advance your vocal skills; explore rehearsal techniques; up your performance game; sing tags\, socialize & more! \nSummer Splash (East)\nSaturday\, August 10\, 2024 • 9am-4pm\nFirst Baptist Church\n210 S Morgan Ave\nBroussard\, LA 70518 \nQuick Links & Info: \n• Event Registration \nGeneral schedule for the day: \nBeginning at 9:00 a.m. \n• Let’s Warm It Up\n• The Art of the Breath\n• What Do I Do With These Spots (Learning Music) \nLunch around 11:45 a.m. (on your own) \nStarting back up at 1:00 p.m. \n• The Grammar of Singing\n• Planning your Physical Game\n• Putting it all together \nWe’ll wind it up around 4:00 p.m. \n• Songs and Learning Media \n– Come on and SING!\n– Let’s Sing Again\n– How We Sang Today \n• Hotel Group Rate (until 7/26/2024)\nThis is a one day only event\, but for those who would like to stay over the weekend\, we have a special room rate discount available at a La Quinta Inn & Suites (104 Sweetland Parkway\, Broussard LA) only until July 26\, 2024\, so book your stay with this link ASAP! \n• Nearby Eateries in Broussard\nThere are no on-site food options for Summer Splash East. However\, our local friends have compiled a list of nearby lunch & dinner options to help you plan your day! \nWe look forward to seeing you on August 10th!\n\n\nEvent graphics provided by Laura DeGraw.
URL:https://region10sai.org/event/summer-splash-east/
LOCATION:First Baptist Church of Broussard\, 210 S Morgan Ave\, Broussard\, LA\, 70518\, United States
CATEGORIES:Region 10 Events
ATTACH;FMTTYPE=image/png:https://region10sai.org/wp-content/uploads/2024/05/2024-Summer-Splash-East-Website.png
END:VEVENT
BEGIN:VEVENT
DTSTART;VALUE=DATE:20240727
DTEND;VALUE=DATE:20240728
DTSTAMP:20260419T234401
CREATED:20240205T045929Z
LAST-MODIFIED:20240205T050508Z
UID:20989-1722038400-1722124799@region10sai.org
SUMMARY:Intl Diamond Division Contest
DESCRIPTION:Diamond Division Quartet Contest\n\n\nJuly 27\, 2024\n\nTULSA\, OKLAHOMA\, USA\n\n\n\nContest Entry is Now Full!\n\nQuartets will be placed on a waiting list after the 15 competitor slots have been filled.\nCompleted Entry Forms accompanied with payment will be accepted in the order they are received.\nView the Rules and Regulations for complete details.\n\nThe Diamond Division Quartet Contest is for women’s quartets age of 55 years and above with a combined age of 240 at the date of contest. \nThis year Diamond Division will be held at the luxurious Hyatt Regency Downtown hotel in Tulsa\, Oklahoma on Saturday\, July 27 at 6 p.m. \nSong Selection Requirements\nAll songs performed on a Sweet Adelines International stage are required to receive an admissibility rating via the Song Assessment Tool. \n\nCongratulations to Quad City Sound\, 2023 Diamond Division Champion Quartet!\nTenor: Jan Fisher\nLead: Melody White\nBaritone: Denise Fly\nBass: Vickie Dennis \nSweet Adelines Affiliation: Region 10 Great Gulf Coast and Region 25 Heart of America \nView Contest Scores\n\n\nContest Questions?\nFor questions about the Diamond Division Quartet Contest\, please contact competition@sweetadelines.com. \n\n\n\n\n\n\n\nfrom: https://sweetadelines.com/Diamond-Division-Quartet-Contest
URL:https://region10sai.org/event/diamonddivision2024/
LOCATION:TX
CATEGORIES:Region 10 Events
ATTACH;FMTTYPE=image/png:https://region10sai.org/wp-content/uploads/2023/07/DiamondDivision2023-e1688827076765.png
END:VEVENT
BEGIN:VEVENT
DTSTART;VALUE=DATE:20240726
DTEND;VALUE=DATE:20240727
DTSTAMP:20260419T234401
CREATED:20240205T045427Z
LAST-MODIFIED:20240205T051657Z
UID:20986-1721952000-1722038399@region10sai.org
SUMMARY:Intl Rising Star Contest
DESCRIPTION:Rising Star Quartet Contest\n\n\nJuly 26\, 2024\n\nTULSA\, OKLAHOMA\, USA\n\n\n\n\nEnter to Compete!\n\nCompleted Entry Forms accompanied with payment will be accepted in the order they are received.\nA maximum of 15 quartets are accepted and Entry Fees are non-refundable.\nView the Rules and Regulations for complete details.\n\nThe Rising Star Quartet Contest is for female quartets whose members are age 25 and under. You do not need to have previous participation in a Sweet Adelines contest to compete in Rising Star! \nThis year Rising Star will be held at the luxurious Hyatt Regency Downtown hotel in Tulsa\, Oklahoma on Friday\, July 26 at 6 p.m. \n \nSong Selection Requirements\nAll songs performed on a Sweet Adelines International stage are required to receive an admissibility rating via the Song Assessment Tool. Competing quartets will receive additional information via email — be sure to provide an active email address in your Contest Entry Form! \nFor more on choosing music for your performance\, watch this brief video from 2018 Rising Star Champion (Hot Pursuit Quartet) Melody Hine. \n \nCongratulations to Cosmic\, 2023 Rising Star Champion Quartet!\nTenor: Cheyenne Gonzalez\nLead: Holli Houtz\nBaritone: Catrina Tulowiecki\nBass: Madison Shortes \nSweet Adelines Affiliation: Region 2 Border Lakes\, 4 Harmony Heartland\, and 10 Great Gulf Coast \nView Contest Scores\n\n\n\n\nShining Bright Since 1999\nFounded in 1999\, the Rising Star Quartet Contest is open to women ages 25 and younger. Singers don’t need to be members of Sweet Adelines International to compete. Some great quartet singers got their competitive start at the Rising Star Quartet Contest. For example\, Rising Star champion quartets LoveNotes (2005\, as UnderAge)\, ClassRing (2014) and The Ladies (2016) went on to become Sweet Adelines International champion quartets (2014\, 2019\, and 2023\, respectively). Hot Pursuit (2018) went on to become Harmony\, Inc. 2019 Quartet Champions. But Rising Star isn’t only about winning. It’s about the joy of singing barbershop with other young singers\, the thrill of performing on stage\, and most of all\, the friendships and memories. \nRecognizing the Legacy of Connie Noble\nThe family and friends of Connie Noble graciously donated the funds for the first\, second\, and third place awards of the Rising Star Quartet Contest. Connie was a devoted Sweet Adeline for 50 years. She served as a coach\, mentor\, leader\, and director\, and to date remains the only individual to have the distinction of singing in four International Champion Quartets — 4th Edition (1972)\, High Society (1976)\, Savvy (1988)\, and Fanatix (2002). \nContest Questions?\n\n\n\nFor questions about the Rising Star Quartet Contest\, please contact competition@sweetadelines.com. \n\n\n\n\n\n\n\n\n\n\n\n\n\nfrom: https://sweetadelines.com/events/rising-star-quartet-contest
URL:https://region10sai.org/event/risingstar2024/
LOCATION:TX
CATEGORIES:Region 10 Events
ATTACH;FMTTYPE=image/png:https://region10sai.org/wp-content/uploads/2023/07/Rising-Star.png
END:VEVENT
BEGIN:VEVENT
DTSTART;VALUE=DATE:20240725
DTEND;VALUE=DATE:20240728
DTSTAMP:20260419T234401
CREATED:20230919T154514Z
LAST-MODIFIED:20240205T052340Z
UID:20665-1721865600-1722124799@region10sai.org
SUMMARY:Directors & Visual Leaders Seminar
DESCRIPTION:Directors & Visual Leaders Seminar\nJuly 25-27\, 2024 \nTULSA\, OKLAHOMA\, USA \nIgnite your ideas\, innovate your skills\, imagine the possibilities!\nJoin us July 25-27 in Tulsa\, Oklahoma\, for the 2024 Directors and Visual Leaders Seminar\, “Imagine If!” This educational event benefits Frontline Directors\, Assistant Directors\, Visual Leaders\, and Musical Leaders. \nYou can now register online\, via mail\, or fax!\n\nVisit our Registration Page for complete details like what’s included in your registration\, how to add Friday and Saturday dinner\, the cancellation policy\, etc.\nRegister Online\nDownload the Registration Form\nView the Class Descriptions\nView the Event Schedule\n\n\nRegistration includes your room at the Hyatt Regency Downtown Tulsa Hotel from check-in on Thursday\, July 25 to check-out on Sunday\, July 28.\n\nVisit our Hotel Page for complete details.\n\nDVLS includes admission to watch the Rising Star and Diamond Division Quartet Contests.\n\nRising Star is on Friday\, July 26.\nDiamond Division is on Saturday\, July 27.\n\nNow for the fun part!\nFind out all about the classes\, see the hour-by-hour event schedule\, meet the co-chairs\, faculty\, and guest faculty. \n\nView the Class Descriptions\nView the Event Schedule\n\n \nMaster Director status\, multiple international stage appearances\, a past international president\, and they have crowns! Meet the co-chairs\, Anne Downton and Joan Boutilier. \n \nPrepare to be inspired…Meet the fabulous Sweet Adelines Faculty! \n \nHe is a two-time Grammy and Emmy Award-winning vocal arranger\, producer\, engineer\, and educator from Los Angeles\, California (USA). Meet the Guest Faculty\, Ben Bram! \nScholarship Recipient Announcement\nThe scholarship cycle closed January 25\, 2024. All candidates will be notified of their application status no later than May 2024. Winners will be announced after all scholarship applicants have been personally notified. Please direct questions to scholarships@sweetadelines.com. \nEvent Questions?\nContact our Events Department via events@sweetadelines.com. \n\n\n\nfrom: https://sweetadelines.com/directors-seminar
URL:https://region10sai.org/event/dvls2024/
LOCATION:TX
CATEGORIES:Region 10 Events
ATTACH;FMTTYPE=image/jpeg:https://region10sai.org/wp-content/uploads/2023/09/2024-DVL-Seminar.jpeg
END:VEVENT
BEGIN:VEVENT
DTSTART;VALUE=DATE:20240622
DTEND;VALUE=DATE:20240623
DTSTAMP:20260419T234401
CREATED:20240518T183658Z
LAST-MODIFIED:20250806T224539Z
UID:21187-1719014400-1719100799@region10sai.org
SUMMARY:Summer Splash (West)
DESCRIPTION:You are invited to join our Education Coordinator – Kerri Mauney – for our Summer Splash (West) event! Learn our new regional song; advance your vocal skills; explore rehearsal techniques; up your performance game; sing tags\, socialize & more! \nSummer Splash (West)\nSaturday\, June 22\, 2024 • 9am-4pm\nCrowne Plaza Hotel – Airport\n1111 Northeast Loop 410\nSan Antonio TX 78209 \nQuick Links & Info: \n• Registration  \n• Hotel Reservations \nThis is a one day only event\, but for those who would like to stay over the weekend\, you are welcome to reserve a room at the Crowne Plaza Hotel (111 Northeast Loop 410\, San Antonio TX). \n• Songs and Learning Media \n– Come on and SING!\n– Let’s Sing Again\n– How We Sang Today \n• Rising Stars of Region 10\n\nOur Summer Splash WEST event includes our regional Rising Star Quartet Contest and a Summer Splash Youth Chorus event\, directed by Madison Shortes and Cosmic Quartet (our 2023 Intl Rising Star Champions) who will also perform!\n\n\nPlease plan to stick around after the day of education to support our young women as they harmonize in the barbershop style (some for the first time)!\n\n\n\nEvent graphics provided by Laura DeGraw.
URL:https://region10sai.org/event/summer-splash-west/
LOCATION:Crowne Plaza San Antonio Airport\, an IHG Hotel\, 1111 NE Interstate 410 Loop\, San Antonio\, 78209\, United States
CATEGORIES:Region 10 Events
ATTACH;FMTTYPE=image/png:https://region10sai.org/wp-content/uploads/2024/05/2024-Summer-Splash-West-Website.png
END:VEVENT
BEGIN:VEVENT
DTSTART;VALUE=DATE:20240622
DTEND;VALUE=DATE:20240623
DTSTAMP:20260419T234401
CREATED:20240606T195943Z
LAST-MODIFIED:20250806T225033Z
UID:21281-1719014400-1719100799@region10sai.org
SUMMARY:Youth Quartet Contest
DESCRIPTION:Rising Star Quartet Contests are for a cappella quartets of young women whose members are age 25 and under. Our competition is fun and friendly\, costs only $25 per quartet to register\, and the top three quartets receive monetary prizes in addition to medals. Singers do not need to hold any kind of membership outside of their quartet in order to participate in this competition! \nEvent Date: Saturday\, June 22\, 2024\nCrowne Plaza San Antonio Airport\n1111 NE Interstate 410 Loop\, San Antonio\, TX \nEvent Time: 6PM Contest & SHOWCASE!\nThe evening showcase will include our regional Rising Star Youth Quartet Contest\, a performance by the Rising Stars of Region 10 Summer Youth Chorus (with Cosmic)\, presentation of awards\, and a FREE concert from Cosmic Quartet (our 2023 Intl Rising Star Champions) and Tangent Quartet who will also perform! \nQuick Links & Info: \n• Quartet Contest Registration  \n• Hotel Reservations \nThis is a one day only event\, but for those who may be traveling and would like to stay over the weekend\, you are welcome to reserve a room at the Crowne Plaza Hotel (111 Northeast Loop 410\, San Antonio TX). \n• Young Women in HarmonyThis one-day event will also feature an all day A Cappella Youth Chorus Workshop with Cosmic Quartet (our 2023 Intl Rising Star Champions)! \n \n  \nFor more information about youth programming\, please visit www.region10sai.org/youth. \nWe look forward to seeing you there! \n\n\nEvent graphics provided by Laura DeGraw.
URL:https://region10sai.org/event/youthcontest2024/
LOCATION:Crowne Plaza San Antonio Airport\, an IHG Hotel\, 1111 NE Interstate 410 Loop\, San Antonio\, 78209\, United States
CATEGORIES:Region 10 Events
ATTACH;FMTTYPE=image/png:https://region10sai.org/wp-content/uploads/2024/06/2024-SRM-Rising-Star-Contest-Web.png
END:VEVENT
BEGIN:VEVENT
DTSTART;VALUE=DATE:20240622
DTEND;VALUE=DATE:20240623
DTSTAMP:20260419T234401
CREATED:20240606T085942Z
LAST-MODIFIED:20250806T225125Z
UID:21251-1719014400-1719100799@region10sai.org
SUMMARY:Youth Chorus Workshop
DESCRIPTION:Join us for a one-day singing celebration in San Antonio with director Madison Shortes and Cosmic – our 2023 International Rising Star Champion Quartet! Music and learning media are available so that you can prepare for this exciting opportunity! \nEvent Date: Saturday\, June 22\, 2024Crowne Plaza San Antonio Airport1111 NE Interstate 410 Loop\, San Antonio\, TX \nEvent Time: 9AM-4PM Workshop & 6PM SHOWCASE!The evening showcase will include our regional Rising Star Youth Quartet Contest\, a performance by the Rising Stars of Region 10 Summer Youth Chorus (with Cosmic)\, presentation of awards\, and a FREE concert from Cosmic Quartet (our 2023 Intl Rising Star Champions) and Tangent Quartet who will also perform! \nQuick Links & Info: \n• Youth Workshop Registration  \n• Hotel Reservations \nThis is a one day only event\, but for those who would like to stay over the weekend\, you are welcome to reserve a room at the Crowne Plaza Hotel (111 Northeast Loop 410\, San Antonio TX). \n• Songs and Learning Media (available after registration)\n– One Fine Day\n– A Million Dreams\n– Let’s Sing Again \n• Young Women in HarmonyThis one-day event will also feature our Regional Rising Star Quartet Contest! \n \n  \n  \nFor more information about youth programming\, please visit www.region10sai.org/youth. \nWe look forward to seeing you there! \n\n\nEvent graphics provided by Laura DeGraw.
URL:https://region10sai.org/event/youthworkshop2024/
LOCATION:Crowne Plaza San Antonio Airport\, an IHG Hotel\, 1111 NE Interstate 410 Loop\, San Antonio\, 78209\, United States
CATEGORIES:Region 10 Events
ATTACH;FMTTYPE=image/png:https://region10sai.org/wp-content/uploads/2024/06/2024-SRM-Youth-Chorus-Web.png
END:VEVENT
BEGIN:VEVENT
DTSTART;VALUE=DATE:20240622
DTEND;VALUE=DATE:20240623
DTSTAMP:20260419T234401
CREATED:20240621T155954Z
LAST-MODIFIED:20250806T225005Z
UID:21296-1719014400-1719100799@region10sai.org
SUMMARY:Summer Showcase + Cosmic & Tangent
DESCRIPTION:Come cheer on our youth participants in a mock Rising Star contest\, hear them sing barbershop (some for the first time) in our Rising Stars of Region 10 Youth Chorus\, and then listen to performances by Cosmic Quartet & Tangent Quartet in a FREE concert! \nEvent Date: Saturday\, June 22\, 2024\nCrowne Plaza San Antonio Airport\n1111 NE Interstate 410 Loop\, San Antonio\, TX \nEvent Time: 6PM SHOWCASE!\nThe evening showcase will include our regional Rising Star Youth Quartet Contest\, a performance by the Rising Stars of Region 10 Summer Youth Chorus (with Cosmic)\, presentation of awards\, and a FREE concert from Cosmic Quartet (our 2023 Intl Rising Star Champions) and Tangent Quartet who will also perform! \n \n  \nQuick Links & Info: \n• Quartet Contest Registration  \n• Youth Workshop Registration  \n• Hotel Reservations \nThis is a one day only event\, but for those who may be traveling and would like to stay over the weekend\, you are welcome to reserve a room at the Crowne Plaza Hotel (111 Northeast Loop 410\, San Antonio TX). \nFor more information about youth programming\, please visit www.region10sai.org/youth. \nWe look forward to seeing you there! \n\n\nEvent graphics provided by Laura DeGraw.
URL:https://region10sai.org/event/cosmictangent/
LOCATION:Crowne Plaza San Antonio Airport\, an IHG Hotel\, 1111 NE Interstate 410 Loop\, San Antonio\, 78209\, United States
CATEGORIES:Region 10 Events
ATTACH;FMTTYPE=image/png:https://region10sai.org/wp-content/uploads/2024/06/Cosmic-Tangent-Showcase-Web-Event.png
END:VEVENT
BEGIN:VEVENT
DTSTART;VALUE=DATE:20240325
DTEND;VALUE=DATE:20240408
DTSTAMP:20260419T234401
CREATED:20240327T190303Z
LAST-MODIFIED:20240327T190303Z
UID:21148-1711324800-1712534399@region10sai.org
SUMMARY:2024 Convention Webcast (Replay)
DESCRIPTION:Region 10 Webcast is still available!!\n\nIf you missed it\, our webcast will be available thru April 7th! We encourage you to purchase the webcast for $30 which will give you access to the Quartet & Chorus contests\, host commentary\, exclusive interviews with our competitors\, AND the Show of Champions\, which will feature our medalists!\n\n\n\nCongratulations to all competitors in our 61st Annual Convention & Competition!\n\n\n#SweetAdelines #Region10SAI #ComeSingWithUs\n\nwww.region10webcast.com
URL:https://region10sai.org/event/webcast2024/
LOCATION:TX
CATEGORIES:Region 10 Events
ATTACH;FMTTYPE=image/png:https://region10sai.org/wp-content/uploads/2024/03/R10-LSA-Webcast-Event-Website.png
END:VEVENT
BEGIN:VEVENT
DTSTART;VALUE=DATE:20240321
DTEND;VALUE=DATE:20240324
DTSTAMP:20260419T234401
CREATED:20240205T054933Z
LAST-MODIFIED:20240205T054933Z
UID:20997-1710979200-1711238399@region10sai.org
SUMMARY:61st Annual Convention & Competition
DESCRIPTION:61st Annual Convention & Competition\nMarch 21-23\, 2024 \nHOUSTON\, TEXAS\, USA \n \n\n\n\nfrom: Our Convention Hub!
URL:https://region10sai.org/event/convention2024/
LOCATION:TX
CATEGORIES:Region 10 Events
ATTACH;FMTTYPE=image/png:https://region10sai.org/wp-content/uploads/2024/02/R10-LSA-Contest-Website-Event.png
END:VEVENT
BEGIN:VEVENT
DTSTART;VALUE=DATE:20240119
DTEND;VALUE=DATE:20240121
DTSTAMP:20260419T234401
CREATED:20230803T045735Z
LAST-MODIFIED:20250806T224041Z
UID:20467-1705622400-1705795199@region10sai.org
SUMMARY:Winter Workshop with Northern Lights\, Southern Charm (NLSC)!
DESCRIPTION:WINTER WORKSHOP!!\nOur Winter Regional Meeting will take place January 19-20 in San Antonio. Clinicians for this year’s Winter Workshop will be Northern Lights\, Southern Charm (NLSC) Coaching (the fabulous Lindsay Chartier & Connie Light)! To learn more about our clinicians\, scroll down past the event links. \nEvent Schedule\nAll classes are available to anyone. Although the focus is on administrative and leadership topics\, all members are integral in the development of a chorus. Details are subject to change as plans develop. Updated 1/2/2024. \nEvent Registration\nYou will receive a Google Forms confirmation email upon completion. \nHotel Reservation\nRooms at the $79 group rate must be reserved by Wednesday\, January 17th. \nSoup & Salad Buffet Lunch\nIndividual $25 meal tickets must be purchased by Wednesday\, January 17th. \nQuartet Coaching: If you are a registered quartet planning to compete in March and are interested in participating in the weekend coaching opportunity\, please sign up here! Please note: All 4 quartet members must be in attendance for coaching. Coach and times are random and will be assigned for Friday evening/night or Saturday throughout the day. Due to the nature of this type of scheduling\, specific requests can not be fulfilled. All coaching slots for Winter Workshop have been claimed! \nDCP Testing: In-person Director Certification Program (DCP) testing is being offered from 3pm- 6pm Friday\, January 19\, 2024 at the Crown Plaza San Antonio IHG Hotel in advance of Winter Workshop. If you are interested in testing\, you must schedule an appointment by January 17th with R10 DCP Coordinator Carol Scherer at fumcmusic1941@gmail.com or via phone at 254-541-4659. Sign up has ended. \nMeal purchases & Hotel reservations MUST be completed by Wednesday\, January 17th at midnight. There will be NO exceptions.\n\nNORTHERN LIGHTS\, SOUTHERN CHARM — The tag-team coaching duo of Connie and Lindsay brings with a wealth of experience to the table. From directing\, to classes on leadership and administration\, chorus and quartet coaching and everything in between.  \nConnie joined Sweet Adelines in 2000 when she discovered it fulfilled her desire to sing and perform. She has been a member of 4 choruses\, including serving as a Certified Director and Choreographer\, currently singing and dancing on the front row of the Rich-Tone Chorus. She is also a Sweet Adelines International Quartet medalist. Connie lives in Fort Worth\, TX and her daughter\, Aleisha\, lives in Tyler\, TX. Connie works as a Billing Account Manager for a third-party healthcare administrator. She is also a travel advisor specializing in Disney and Universal destinations. \nLindsay’s involvement in barbershop singing began in Montreal\, QC in 1994\, when she sang lead with a mixed youth quartet. Lindsay is a member of Harmony\, Inc.\, Sweet Adelines International\, and the Barbershop Harmony Society. She is a three-time International Quartet Champion in Harmony Inc.\, a Sweet Adelines International Quartet medalist\, a small chorus medalist\, and an SAI Rising Star Champion (2002). She has almost 15 years of directing experience and currently directs Southwest Sound\, the Fort Worth Chapter of the BHS and a Sweet Adelines Certified Director\, where she directs.Note-Ably North Texas. ​ Lindsay moved to TX in 2014 and is currently employed as a Senior Quality Assurance Specialist at Mitchell International\, an Enlyte company. She lives in Frisco\, TX with her husband (whom she met through barbershop)\, Mark Holdeman. \nClick here to access our Region’s Education Portal!\n\n\n\nEvent graphics provided by Laura DeGraw.
URL:https://region10sai.org/event/wrm2024/
LOCATION:Crowne Plaza San Antonio Airport\, an IHG Hotel\, 1111 NE Interstate 410 Loop\, San Antonio\, 78209\, United States
CATEGORIES:Region 10 Events
ATTACH;FMTTYPE=image/png:https://region10sai.org/wp-content/uploads/2023/08/WRM-NLSC-Website-Event.png
END:VEVENT
BEGIN:VEVENT
DTSTART;VALUE=DATE:20240101
DTEND;VALUE=DATE:20240502
DTSTAMP:20260419T234401
CREATED:20230805T080857Z
LAST-MODIFIED:20240205T072528Z
UID:20476-1704067200-1714607999@region10sai.org
SUMMARY:Bonfire Spirit Shop
DESCRIPTION:Region 10 Spirit Shop!!\nWe have t-shirts (short and long)\, tanks\, hoodies and more available at our Bonfire Spirit Shop! \nVisit our Bonfire store to get your apparel!  \n 
URL:https://region10sai.org/event/bonfire/
LOCATION:TX
CATEGORIES:Region 10 Events
END:VEVENT
END:VCALENDAR