BEGIN:VCALENDAR
VERSION:2.0
PRODID:-//Region 10 Sweet Adelines - ECPv6.15.20//NONSGML v1.0//EN
CALSCALE:GREGORIAN
METHOD:PUBLISH
X-ORIGINAL-URL:https://region10sai.org
X-WR-CALDESC:Events for Region 10 Sweet Adelines
REFRESH-INTERVAL;VALUE=DURATION:PT1H
X-Robots-Tag:noindex
X-PUBLISHED-TTL:PT1H
BEGIN:VTIMEZONE
TZID:America/Chicago
BEGIN:DAYLIGHT
TZOFFSETFROM:-0600
TZOFFSETTO:-0500
TZNAME:CDT
DTSTART:20240310T080000
END:DAYLIGHT
BEGIN:STANDARD
TZOFFSETFROM:-0500
TZOFFSETTO:-0600
TZNAME:CST
DTSTART:20241103T070000
END:STANDARD
BEGIN:DAYLIGHT
TZOFFSETFROM:-0600
TZOFFSETTO:-0500
TZNAME:CDT
DTSTART:20250309T080000
END:DAYLIGHT
BEGIN:STANDARD
TZOFFSETFROM:-0500
TZOFFSETTO:-0600
TZNAME:CST
DTSTART:20251102T070000
END:STANDARD
BEGIN:DAYLIGHT
TZOFFSETFROM:-0600
TZOFFSETTO:-0500
TZNAME:CDT
DTSTART:20260308T080000
END:DAYLIGHT
BEGIN:STANDARD
TZOFFSETFROM:-0500
TZOFFSETTO:-0600
TZNAME:CST
DTSTART:20261101T070000
END:STANDARD
BEGIN:DAYLIGHT
TZOFFSETFROM:-0600
TZOFFSETTO:-0500
TZNAME:CDT
DTSTART:20270314T080000
END:DAYLIGHT
BEGIN:STANDARD
TZOFFSETFROM:-0500
TZOFFSETTO:-0600
TZNAME:CST
DTSTART:20271107T070000
END:STANDARD
END:VTIMEZONE
BEGIN:VEVENT
DTSTART;VALUE=DATE:20250801
DTEND;VALUE=DATE:20250911
DTSTAMP:20260421T154908
CREATED:20250805T212026Z
LAST-MODIFIED:20250902T171940Z
UID:22402-1754006400-1757548799@region10sai.org
SUMMARY:Convention Logo Design Contest
DESCRIPTION:Region 10 Convention Logo Design Contest: “Reach for the Stars!”\nSubmit August 1 – September 10\, 2025\nCalling all creatives — designers\, doodlers\, digital artists\, and daydreamers — this is your time to shine! \nWe’re officially launching the contest to design the convention logo for Region 10’s 63rd Annual Convention & Competition happening in April 2026\, and we want your creativity front and center. \nThis year’s theme? “Reach For The Stars.” Whether that sparks cosmic wonder\, musical magic\, or something entirely unexpected\, we can’t wait to see your vision come to life. \n• What are we looking for?A bold\, memorable logo that captures the spirit of harmony\, performance\, and our unique Region 10 energy. Something that will look amazing on programs\, merch\, and big screens alike. \n️• What do you win?Besides major bragging rights\, the winning artist will be featured across Region 10’s website\, social media\, and 2026 Convention materials — plus receive a special swag pack with your design on it. Honorable mentions may also be spotlighted! \n\nDeadline to submit: — EXTENDED!Wednesday\, September 10\, 2025 by 8:00PM CST \nFull contest rules and submission details:2026 Convention Logo Design Contest (Extended)(Make sure to read before submitting — there are important file requirements and design must-haves!) \nEmail your logo entry to:region10logodesign@gmail.com \n\nSo grab your stylus\, open your sketchpad\, or fire up Canva — and start designing. We can’t wait to see what you dream up. Let’s make something beautiful\, bold\, and unapologetically Region 10.
URL:https://region10sai.org/event/logocontest2026/
CATEGORIES:Region 10 Events
END:VEVENT
BEGIN:VEVENT
DTSTART;VALUE=DATE:20250913
DTEND;VALUE=DATE:20250914
DTSTAMP:20260421T154908
CREATED:20250909T183340Z
LAST-MODIFIED:20250913T095338Z
UID:22550-1757721600-1757807999@region10sai.org
SUMMARY:Quartet Event: Essence & Saving Grace - Columbus Benefit Concert
DESCRIPTION: Barbershop for a Cause! \nJoin us in Boerne\, TX\, on Saturday\, September 13th as we rally behind Essence and Saving Grace — two incredible quartets representing #Region10SAI at the Sweet Adelines International Quartet Contest in Columbus\, Ohio this fall! \n\n\n\nSaturday\, September 13\, 2025Doors & Silent Auction at 1:30 PM | Show starts at 2:00 PMBoerne Church of Christ – 1 Upper Balcones Rd\, Boerne\, TX\n\n\n\nPerformances by Award-Winning Quartets:–  Essence–  Saving Grace–  Sterling–  Hot Note–  Blue Baris\n\n\n\n Don’t miss: Silent Auction\, Raffles\, irresistible harmonies\, and a whole lotta love for our Region 10 stars! This event is free and open to the public with a suggested donation of $20.\n\nCan’t make it in person? Catch the free livestream on Facebook at showtime—no sign-up needed!\n\n\n\n﻿﻿\n\n\n\nLet’s help these fabulous singers cross that Columbus finish line in full harmony! 
URL:https://region10sai.org/event/quartetbenefit2025/
LOCATION:Boerne Church of Christ\, 1 Upper Balcones Rd.\, Boerne\, TX\, 78006\, United States
CATEGORIES:Region 10 Events,Chapter Shows
ATTACH;FMTTYPE=image/png:https://region10sai.org/wp-content/uploads/2025/09/2025-QT-Benefit-Concert-Auction-Website-Event.png
END:VEVENT
BEGIN:VEVENT
DTSTART;VALUE=DATE:20251004
DTEND;VALUE=DATE:20251005
DTSTAMP:20260421T154908
CREATED:20250709T163112Z
LAST-MODIFIED:20250819T013022Z
UID:22367-1759536000-1759622399@region10sai.org
SUMMARY:(Virtual) Fall Fling with Melynnie Williams
DESCRIPTION:Grow the Music\, Grow the Membership!\n\n\nThis fall\, harmony isn’t the only thing we’re growing! Join Sweet Adelines Great Gulf Coast Region 10 for Fall Fling 2025\, a one-day virtual education event laser-focused on Membership Growth and Retention — because great music starts with great people. \nReady to revitalize your chorus?Get energized\, inspired\, and equipped with practical tools and heartfelt wisdom from Melynnie Williams! \nWhether you’re a chorus leader\, membership coordinator\, section leader—or just passionate about the future of your chorus — this is the virtual room to be in. \nSave the Date: Saturday\, October 4\, 2025Location: Zoom (pajamas optional\, passion required!) \nLet’s fling open the doors to a stronger\, more connected\, and more vibrant future—together. \n\n✨ Melynnie Williams – A Queen of Harmony (2010\, ZING!)\, Musical Director of Wichita Chorus\, and Education Coordinator for Region 25. She brings infectious positivity\, deep musical knowledge\, and leadership that helps groups thrive\, not just survive. \n\n\n\n\n\n\n\n\n\n\n>> Register Now! <<\n\n\n\n\n\n\n\nWHAT TO EXPECT: \n\n\n\nMorning Membership Classes with Melynnie Williams (9am-12pm) \n\n9:00–10:00 AM – Creating a Culture of Success\n10:00–11:00 AM – Supporting a Culture of Success\n11:00 AM–12:00 PM – Mission: Retention – The Playbook\n\n☕️ Break: 12:00–12:15 PM \n\n\nMembership Spotlight Presentation (12:15 PM–2:00 PM)\nKarla Callaway & Lynn Poston share the strategies behind Texas Harmony’s successful membership programs and recruitment drives\n\n\n\n\n\n\n\n\n\n\n\n\n\n\n\nYou can learn more about our faculty below!\n\nGuest Clinician for Fall Fling\n✨ Melynnie Williams is a second-generation barbershopper and the bass of ZING!\, the 2010 International Quartet Champions and Sweet Adelines Queens of Harmony. She currently serves as the Master Director of the Wichita Chorus in Wichita\, KS\, leading them to repeated success in Region 25\, including first place Division A wins in 2023\, 2024\, and 2025\, with top-three overall finishes each year. The chorus also mic-tested for Harmony Classic in 2024 and will compete this fall in Columbus. \nMelynnie is the Education Coordinator for Region 25\, chairs the Region 25 Education Steering Committee\, and serves on both the Region 25 Educational Faculty and the Coronet Club Board of Directors. She’s also a long-time member of the SAI Membership Retention Committee\, which supports choruses around the world in strengthening member engagement. \nWith experience as a competitor\, director\, coach\, and educator\, Melynnie brings a well-rounded perspective to her roles. She often shares insights from Mission: Retention – The Playbook to help choruses cultivate stronger\, more inclusive group culture. \n\nMembership Spotlight Faculty\n \nKarla Callaway – Director\, Texas Harmony ChorusKarla has served as the Director of Texas Harmony since August 2018\, bringing her passion for creating an engaging and inspiring learning environment to the chorus. Committed to elevating each member’s vocal abilities\, she provides both group instruction and individual coaching. Karla’s vocal expertise has been shaped by mentorship from Tom Blaylock of the Northwest Vocal Institute and extensive self-study\, alongside professional development through Sweet Adelines International. \nIn addition to her directorial role\, Karla is a seasoned piano and voice teacher\, as well as a coach for both choruses and quartets. She has enjoyed several top-five finishes in both chorus and quartet competitions\, underscoring her ability to excel both on stage and in leadership. As a Certified Director and Harmony 500 Director\, honors granted by Sweet Adelines International\, Karla has contributed to the growth of Region 10 as a member of the Regional Education Faculty. She has coached numerous choruses and quartets and offered Personal Vocal Instruction (PVI) to many singers across the region. \n \nLynn Poston – Assistant Director\, Texas Harmony ChorusLynn has been a dedicated member of Texas Harmony for over 11 years\, demonstrating exceptional leadership and commitment to the chorus. Over the course of her tenure\, she has served in various pivotal roles\, including Communications Chair\, Choreographer\, Team Leader\, Membership Chair\, and Tenor Section Leader. She currently serves as Assistant Director and is actively pursuing her Director Certification with Sweet Adelines International. \nKarla’s collaborative partnership with Lynn has been a cornerstone of Texas Harmony’s growth and success. Their shared dedication to fostering a dynamic and open learning environment has led to impressive developments within the chorus. Together\, they have built a robust marketing program that has helped Texas Harmony thrive\, emphasizing the importance of open communication and a strong\, supportive culture. Their combined efforts have not only strengthened the musical aspect of the chorus but have cultivated a community where members feel inspired and connected\, ensuring continued growth and success for the chorus. \n\n\n\n\n\n\n\n\n\n\n\n>> Register Now! <<\n\n\n \nEvent graphics provided by Laura DeGraw.
URL:https://region10sai.org/event/fall2025/
CATEGORIES:Region 10 Events
ATTACH;FMTTYPE=image/png:https://region10sai.org/wp-content/uploads/2025/07/Fall-Fling-2025-Website-Event.png
END:VEVENT
BEGIN:VEVENT
DTSTART;VALUE=DATE:20251020
DTEND;VALUE=DATE:20251026
DTSTAMP:20260421T154908
CREATED:20250124T034757Z
LAST-MODIFIED:20250520T053120Z
UID:21772-1760918400-1761436799@region10sai.org
SUMMARY:77th Annual International Convention & Competition
DESCRIPTION:77th Annual International Convention and Competition\n\nWhere voices soar\, friendships grow\, and champions are made.\nThere’s only one Sweet Adelines Convention Feeling: Find it in Columbus\, Ohio\, October 20–25. \n\n\nEarly Bird Registration\nEducation Events\nFamily Chorus\nHotel Block\n\n\n\n\n\n\n\n\n\n\n\n\n \nRegister Now\, Early Birds!\n\nTake me to Event Registration\nView the Schedule of Events\n\n\n\n\n\n\n\n\n\n\nRing Chords in Columbus!\n\n \n\nArrive Early\, Learn Big\, Win Prizes!\nGet to Columbus early for Monday education events and classes including lively “passport rounds” and “Tag-Outs!” with Queens. You’ll also have a chance to win prizes! \nAlso enjoy expert panel discussions and barbershop arranging on Tuesday and classes with International Champions on Friday and Saturday. \nShow me all Education Events!\n\nRaise your voice with Family Chorus in Columbus!\nCo-directed by Kim Wonders and Natalie Allen of the Metro Nashville Chorus\, this is going to be a Family Chorus to remember! \n \nThe Family Chorus will light up the international stage on Saturday\, October 25\, right after the Chorus Finals. \nSweet Adelines\, friends\, and family members—sign up to sing! \nSign up for Family Chorus!\n\n\n\n\n\n\n\n\n\n\n\n\n\n\n\n\n\n \nCompetition Schedule\nHarmony Classic • Tuesday\, October 21\nQuartet Semifinals • Wednesday\, October 22\nChorus Semifinals • Thursday\, October 23\nQuartet Finals • Friday\, October 24\nChorus Finals • Saturday\, October 25 \nOrder of Events:\nHarmony Classic\nQuartet Semifinals\nChorus Semifinals\n\n\n\n\n\n\n\n\n\n\n\n\nSee more details at www.sweetadelines.com/columbus2025
URL:https://region10sai.org/event/77th-annual-international-convention-competition/
CATEGORIES:Region 10 Events
ATTACH;FMTTYPE=image/jpeg:https://region10sai.org/wp-content/uploads/2025/01/2025-Columbus-thumbnail.jpeg
END:VEVENT
BEGIN:VEVENT
DTSTART;TZID=America/Chicago:20251020T213000
DTEND;TZID=America/Chicago:20251020T220000
DTSTAMP:20260421T154908
CREATED:20250729T220439Z
LAST-MODIFIED:20250906T225505Z
UID:22396-1760995800-1760997600@region10sai.org
SUMMARY:Columbus Competitor Pep Rally
DESCRIPTION:Join us for a quick Pep Rally to cheer on our Columbus international competitors: Essence\, Saving Grace\, Alamo Metro\, Houston Horizon\, and Crescent City Sound before they all hit the stage! \n\nThis event will take place on Monday\, October 20\, 2025\, from 9:30-10:00pm at the Greater Columbus Convention Center\, rooms A220-A225. \n  \nSee you there!
URL:https://region10sai.org/event/peprally2025/
CATEGORIES:Region 10 Events
ATTACH;FMTTYPE=image/png:https://region10sai.org/wp-content/uploads/2025/07/2025-Pep-Rally-Website.png
END:VEVENT
BEGIN:VEVENT
DTSTART;VALUE=DATE:20251101
DTEND;VALUE=DATE:20251102
DTSTAMP:20260421T154908
CREATED:20250913T042430Z
LAST-MODIFIED:20251018T114008Z
UID:22566-1761955200-1762041599@region10sai.org
SUMMARY:Chapter Event: Heart of the Pines - Feelin' Groovy
DESCRIPTION:11/1/2025 • 3:00 pm\n \n\n\n\n\n\n\n\n\n\n\n\n\n\n\n\n\n\n\n\n\nHeart of the Pines\nFeelin’ Groovy – fall show\n11/1/2025\n3pm\n3914 North St\, Nacogdoches\, TX 75965\n60s themed Fall Show with special guests\, East Texas Men in Harmony from Tyler\, TX\n\n\n\n\n\n\n\n\n\nPlease check for updates from Heart of the Pines Chorus at their chapter website: https://heartofthepineschorus.com.
URL:https://region10sai.org/event/hotp-fall2025/
LOCATION:North Street Church of Christ\, 3914 North Street\, Nacogdoches\, TX\, 75965\, United States
CATEGORIES:Chapter Shows
ATTACH;FMTTYPE=image/png:https://region10sai.org/wp-content/uploads/2023/07/Chapter-Event.png
END:VEVENT
BEGIN:VEVENT
DTSTART;VALUE=DATE:20251108
DTEND;VALUE=DATE:20251109
DTSTAMP:20260421T154908
CREATED:20250702T213229Z
LAST-MODIFIED:20250913T041014Z
UID:22320-1762560000-1762646399@region10sai.org
SUMMARY:Chapter Event: Woodlands Show Chorus - Barbershop & Bingo
DESCRIPTION:Purchase tickets at https://thewoodlandsshowchorus.org/PurchaseTickets \n\n\n\n\n\n\n\n\n\n\n\n\n\n\n\n\nThe Woodlands Show\n\nBarbershop & Bingo Show \n\n11/8/2025\n4:30pm to 7:30pm\n\nSts Simon & Jude Catholic Church \n26777 Glen Loch Dr\n77381 The Woodlands \, Tx \n\n\n\n\n\n\n\n\n\n\nPlease check for updates from the Woodlands Show Chorus at their chapter website: https://thewoodlandsshowchorus.org.
URL:https://region10sai.org/event/twsc-fall2025/
LOCATION:Sts. Simon and Jude Catholic Church\, 26777 Glen Loch Dr.\, The Woodlands\, TX\, 77381\, United States
CATEGORIES:Chapter Shows
ATTACH;FMTTYPE=image/png:https://region10sai.org/wp-content/uploads/2023/07/Chapter-Event.png
END:VEVENT
BEGIN:VEVENT
DTSTART;VALUE=DATE:20251115
DTEND;VALUE=DATE:20251116
DTSTAMP:20260421T154908
CREATED:20251018T115638Z
LAST-MODIFIED:20251018T115932Z
UID:22582-1763164800-1763251199@region10sai.org
SUMMARY:Chapter Event: Lone Star - Fall Show
DESCRIPTION:11/15/2025 • 3:00 pm\n \n\n\n\n\n\n\n\n\n\n\n\n\n\n\n\n\n\nLone Star Chorus\nLone Star Chorus presents: A Christmas Confusion\n11/15/2025\n3:00PM\nHulen Street Church\, 7100 S Hulen St\, Fort Worth\, TX 76133\nLone Star Chorus is kicking off the holiday season with friends!\n\n\n\n\nWe are kicking off the holiday season with a show! \nTickets are available here. \nBuy ad space in our digital program here! \nWe are having a sing-a-long! Learn the music here\, and come sing with us! \n\n\n\n\n\n\nPlease check for updates from Lone Star Chorus at their chapter website: https://lonestarchorus.org.
URL:https://region10sai.org/event/lonestar-fall2025/
LOCATION:Hulen Street Church\, 7100 S Hulen St\, Fort Worth\, 76133\, United States
CATEGORIES:Chapter Shows
ATTACH;FMTTYPE=image/png:https://region10sai.org/wp-content/uploads/2023/07/Chapter-Event.png
END:VEVENT
BEGIN:VEVENT
DTSTART;VALUE=DATE:20251122
DTEND;VALUE=DATE:20251123
DTSTAMP:20260421T154908
CREATED:20250702T205415Z
LAST-MODIFIED:20250913T042516Z
UID:22305-1763769600-1763855999@region10sai.org
SUMMARY:Chapter Event: Chisholm Trail - Fall Show
DESCRIPTION:11/22/2025 • 4:00 pm\n\n\n\n\n\n\n\n\n\n\n\n\n\n\n\n\nChisholm Trail\nFall Show\n11/22/2025\n4:00 p.m.\nTemple Civic Theater\, 2413 S. 13th Street\, Temple\, TX\, 76504\n\n\n\n\n\n\n\n\n\nDetails for this show are not yet available. Please check for updates from Chisholm Trail Chorus at their chapter website: https://chisholmtrailchorus.org.
URL:https://region10sai.org/event/chisholm-fall2025/
LOCATION:Temple Civic Theatre\, 2413 S 13th St\, Temple\, TX\, 76504\, United States
CATEGORIES:Chapter Shows
ATTACH;FMTTYPE=image/png:https://region10sai.org/wp-content/uploads/2023/07/Chapter-Event.png
END:VEVENT
BEGIN:VEVENT
DTSTART;VALUE=DATE:20251213
DTEND;VALUE=DATE:20251214
DTSTAMP:20260421T154908
CREATED:20250702T211552Z
LAST-MODIFIED:20251018T114548Z
UID:22315-1765584000-1765670399@region10sai.org
SUMMARY:Chapter Event: Houston Horizon - Holiday Show
DESCRIPTION:12/13/2025 • 2:00 pm\n \n\n\n\n\n\n\n\n\n\n\n\n\n\n\n\n\nHouston Horizon Chorus\nHoliday Show\n12/13/2025\n2PM\nMemorial Church of Christ\, 900 Echo Ln\, Houston\, TX 77024\n\n\n\nAbout this event\n\nJoin us for a festive afternoon at our 2025 Holiday Show! After a big year of competition\, Houston Horizon Chorus is thrilled to finish on a high note with a concert you won’t want to miss. \nEnjoy a delightful mix of classic carols\, comedic holiday tunes\, and stunning a cappella harmonies. It’s fun for the whole family\, so bring the kids and grandkids! Plus\, you can find the perfect gift at our silent auction or enjoy a sweet treat. Come celebrate the season with us! Psst\, did we mention our VIP packages? \nMore information: https://houstonhorizonchorus.betterworld.org/events/holiday-show-2025 \n\n\n\n\n\n\n\nPlease check for updates from Houston Horizon Chorus at their chapter website: https://houstonhorizonchorus.betterworld.org.
URL:https://region10sai.org/event/hhc-holiday2025/
LOCATION:Memorial Church of Christ\, 900 Echo Lane\, Houston\, TX\, 77024\, United States
CATEGORIES:Chapter Shows
ATTACH;FMTTYPE=image/png:https://region10sai.org/wp-content/uploads/2023/07/Chapter-Event.png
END:VEVENT
BEGIN:VEVENT
DTSTART;VALUE=DATE:20260116
DTEND;VALUE=DATE:20260118
DTSTAMP:20260421T154908
CREATED:20250703T220909Z
LAST-MODIFIED:20260119T193701Z
UID:22342-1768521600-1768694399@region10sai.org
SUMMARY:Winter Workshop with Caitlin Castelino
DESCRIPTION:JOIN US for Winter Workshop 2026! \nJanuary 16–17\, 2026 | Holiday Inn Town Lake | Austin\, TX\n\n\n\n\n\n\n\n\n\n\n\n\nKick off 2026 with Harmony! Join us this January in Austin\, Texas for an unforgettable weekend of barbershop education and inspiration featuring the incredible Caitlin Castelino — International Faculty member\, champion baritone of LoveNotes\, and director of the award-winning Diablo Vista Chorus! \nWhether you’re a seasoned singer or new to the risers\, you’ll walk away energized\, empowered\, and vocally refreshed. Plus\, don’t miss our Rising Stars of Region 10 youth workshop\, Harmony: For Good — an exciting opportunity for young singers to learn\, connect\, and shine under the direction of 2023 Queen of Harmony Caroline Durrett\, award winning lead of The Ladies quartet! \nMark your calendar. Warm up your voice. And get ready to ring in the chords! \n\n\n\n\n\n\n\nWHAT TO EXPECT: Class Schedule (Updated 1/16/2026) \nREGISTRATION: Register now! \nHANDOUTS – If you like to have physical copies\, please bring these with you. They will be available here (digitally) for you to access throughout the workshop. \n• Calibrate Your Sound Handout\n• Fun and Productive Rehearsals Handout\n• Phonetics Handout\n• Stop Aging in Its Tracks Handout\n• The Vocal Mechanism_ How Does It Work Handout \n\n\nQUARTET COACHING:  Sign up for coaching! \n\nMEALS – Complementary breakfast buffet is included for up to 2 people in each hotel room per day. Additional breakfast buffet meals can be purchased onsite. There will be a lunch buffet available for purchase. Price and menu to be announced. \n\n\n\n\nWHERE TO STAY: Holiday Inn Town Lake – 20 N Interstate Hwy 35\, Austin\, TX 78701. Group rate is only available until January 12\, 2026! \n\n\n\n\n\n\n\n\n\n\n\n\n\n\n\n\n\nYou can learn more about our clinician below!\n  \n\nCAITLIN CASTELINO\n \nCaitlin Castelino is a 25-year member of Sweet Adelines and has been on the International Faculty since 2020. She is the Master 600 director of Diablo Vista Chorus\, the 2020 Harmony Classic AA Champions and 2024 8th place International medalists\, and baritone of LoveNotes\, the 2014 International Quartet Champions. Caitlin created and directs The Starlettes\, the chorus comprised of past Rising Star champion quartets\, and previously directed Circle 12\, the Region 12 chorus comprised of past quartet champions. She has had the honor of teaching\, performing\, and coaching all over the world as an individual and with LoveNotes\, and has been very fortunate to serve as the clinician for numerous youth in harmony events. Caitlin graduated with her master’s degree in Speech-Language Pathology in 2012\, and she brings her knowledge of the vocal mechanism\, healthy voice production\, and voice therapy techniques to her classes and coaching sessions to promote healthy singing in all vocalists. \n\n \nEvent graphics provided by Laura DeGraw \n\nStay tuned for updates about this event!
URL:https://region10sai.org/event/winter2026/
LOCATION:Holiday Inn Austin Town Lake\, 20 N Interstate Hwy 35\, Austin\, TX\, 78701\, United States
CATEGORIES:Region 10 Events
ATTACH;FMTTYPE=image/png:https://region10sai.org/wp-content/uploads/2025/07/2026-Winter-Workshop-Web-Event.png
END:VEVENT
BEGIN:VEVENT
DTSTART;VALUE=DATE:20260117
DTEND;VALUE=DATE:20260118
DTSTAMP:20260421T154908
CREATED:20260102T004033Z
LAST-MODIFIED:20260112T193222Z
UID:22623-1768608000-1768694399@region10sai.org
SUMMARY:Harmony: For Good - Youth Chorus Workshop
DESCRIPTION:Join us for a one-day barbershop a cappella event in Austin with Queen of Harmony Caroline Durrett – award winning lead singer of 2023 Sweet Adelines International Champion Quartet: The Ladies! This a cappella workshop is open to girls ages 25 and under\, at any experience level\, with the majority of singers coming from local middle and high schools or community choirs.\n\n\nThis chorus will spend the day together learning and singing For Good (Wicked) and Something To Talk About (Bonnie Raitt) in exciting 4-part barbershop a cappella harmony. Music and learning media are available so that you can prepare for this exciting opportunity! You DO NOT need to have music memorized for this event. \n\n\nEvent Date: Saturday\, January 17\, 2026\n\nHoliday Inn Austin – Town Lake\n20 N Interstate Hwy 35\, Austin\, TX 78701\nOnly $10 to participate!\n•••\nEvent Time: 9AM-5:30PM Workshop & 7PM Performance!\n\n\nOur youth event is graciously hosted by Great Gulf Coast Region 10 Sweet Adelines\, a non-profit organization that provides barbershop harmony music education and performance opportunities to women of all ages in our community. The evening show will include our youth chorus workshop performance\, as well as live performances from Region 10 quartets who are attending the Great Gulf Coast Region 10 Sweet Adelines “Winter Workshop” education seminar taking place at the same time in the adjacent hotel ballrooms.\n\n\n\n\n\n\n\n\n\n\n\n\n\n\nQuick Links & Info:\n• Register now to join us on January 17th! \nSingers wishing to participate should sign up ASAP to secure a spot\, access the music/recordings\, and so that our team can prepare for the event!   \nFor your convenience: \n• Harmony – For Good – Schedule \n• Harmony – For Good – QR Code Flyer \nSongs and Learning Media (available after registration)\n– For Good (Wicked)\n– Something To Talk About (Bonnie Raitt) \nThe Harmony: For Good – youth event is a one-day Saturday workshop\, so overnight stay is not required. If you are traveling for the workshop and would like to stay overnight at the hotel (Friday or Saturday night)\, you are welcome to reserve your stay using our group discount. This discount is only available if booked by January 12th\, 2026. \nQuestions? Contact youth@region10sai.org!\n \n\n\n\n\nMeet this year’s Youth Chorus Director…\n\nCAROLINE DURRETT\n \nCaroline Durrett is an accomplished barbershop educator\, clinician\, and director with a deep commitment to nurturing young singers both musically and personally. A Sweet Adelines International Queen of Harmony with The Ladies Quartet\, Caroline brings firsthand experience at the highest level of the art form—along with a thoughtful\, youth-centered approach that makes her an exceptional leader for emerging singers. \nCaroline holds a Master’s degree in Counseling\, which uniquely equips her to support the mental\, emotional\, and social well-being of young performers. As a music educator and coach\, she is especially skilled at helping singers build confidence\, healthy vocal habits\, teamwork skills\, and resilience—tools that serve students not only on the risers\, but in everyday life. Parents value Caroline’s ability to create a positive\, encouraging learning environment where students feel safe\, supported\, and empowered to grow. \nIn addition to her barbershop work\, Caroline is an active choral musician and director\, performing with the Highland Park Chorale and other Dallas ensembles. Her musical background spans classical\, choral\, Broadway\, pop\, folk\, and a cappella styles\, giving her a broad perspective that resonates with today’s young singers. Caroline’s professional credits include recording and vocal work for The Biggest Little Farm and Walker\, Texas Ranger\, reflecting her versatility and real-world industry experience. \nHarmony: For Good marks Caroline’s third time serving as director for Region 10’s Young Women in Harmony programming. Her return speaks volumes—she is a trusted\, beloved leader who consistently inspires students to sing with confidence\, connect with others\, and find joy in music. We are thrilled to welcome her back to guide and encourage the next generation of barbershop singers. \n\n\n\n \n\nFor more information about youth programming\, please visit www.region10sai.org/youth. \nWe look forward to seeing you there!
URL:https://region10sai.org/event/youthworkshop2026/
LOCATION:Holiday Inn Austin Town Lake\, 20 N Interstate Hwy 35\, Austin\, TX\, 78701\, United States
CATEGORIES:Region 10 Events
ATTACH;FMTTYPE=image/png:https://region10sai.org/wp-content/uploads/2026/01/2026-Youth-Chorus-Event.png
END:VEVENT
BEGIN:VEVENT
DTSTART;VALUE=DATE:20260416
DTEND;VALUE=DATE:20260419
DTSTAMP:20260421T154908
CREATED:20250729T212042Z
LAST-MODIFIED:20260130T235332Z
UID:22393-1776297600-1776556799@region10sai.org
SUMMARY:63rd Annual Convention & Competition
DESCRIPTION:Reach For The Stars!\nApril 16-18\, 2026 \nDoubleTree by Hilton Hotel Houston Hobby Airport – HOUSTON\, TEXAS\, USA \n \n\n\n\nVisit our Convention Hub for details!
URL:https://region10sai.org/event/convention2026/
LOCATION:DoubleTree by Hilton Hotel Houston Hobby Airport\, 8181 Airport Blvd\, Houston\, 77061\, United States
CATEGORIES:Region 10 Events
ATTACH;FMTTYPE=image/png:https://region10sai.org/wp-content/uploads/2025/07/2026-Contest-Website-Event.png
END:VEVENT
BEGIN:VEVENT
DTSTART;VALUE=DATE:20260612
DTEND;VALUE=DATE:20260614
DTSTAMP:20260421T154908
CREATED:20250703T225000Z
LAST-MODIFIED:20260305T024701Z
UID:22352-1781222400-1781395199@region10sai.org
SUMMARY:Summer Splash
DESCRIPTION:SAVE THE DATE for Summer Splash! \nJune 12–13\, 2026 | Sheraton North Houston GBIA | Houston\, TX\n\n\n\n\n\n\n\n\n\n\n\n\n☀️ Make Waves at Summer Splash 2026! ☀️Get ready to dive into harmony at Summer Splash\, coming June 2026 to Houston\, Texas! This sizzling barbershop education event is your chance to soak up summer education\, boost your vocal skills\, and connect with passionate singers from across the region. \nWhether you’re singing tags ’til midnight or leveling up your ensemble performance\, Summer Splash is where fun meets fabulous barbershop growth. \nMark your calendars and pack your pitch pipe—this is one splash you won’t want to miss! \n\nFaculty TBA \n\n\n\n\n\n\n\nWHAT TO EXPECT: Class Schedule & Handouts TBA \nREGISTRATION: TBA \n\n\nSATURDAY MEAL:  TBA \n\n\n\n\n\nSATURDAY NIGHT: TBA \nWHERE TO STAY: Sheraton North Houston at GBIA – 15700 John F Kennedy Blvd\, Houston\, TX 77032. Book now: $99/night Region 10 Group Rate. Last day to book is May 22\, 2026. \nReminders: TBA.  \n\n\n\n\n\n\n\n\n\n\n\n\n\n\n\n\n\nYou can learn more about our faculty below!\n  \n\nFACULTY TBA\n  \nMore information coming soon. \n\nStay tuned for updates about this event!
URL:https://region10sai.org/event/summer2026/
LOCATION:Sheraton North Houston at George Bush Intercontinental Airport\, 15700 John F Kennedy Blvd\, Houston\, 77032\, United States
CATEGORIES:Region 10 Events
ATTACH;FMTTYPE=image/png:https://region10sai.org/wp-content/uploads/2025/01/Summer-Splash-Placeholder.png
END:VEVENT
END:VCALENDAR