BEGIN:VCALENDAR
VERSION:2.0
PRODID:-//Region 10 Sweet Adelines - ECPv6.15.20//NONSGML v1.0//EN
CALSCALE:GREGORIAN
METHOD:PUBLISH
X-ORIGINAL-URL:https://region10sai.org
X-WR-CALDESC:Events for Region 10 Sweet Adelines
REFRESH-INTERVAL;VALUE=DURATION:PT1H
X-Robots-Tag:noindex
X-PUBLISHED-TTL:PT1H
BEGIN:VTIMEZONE
TZID:America/Chicago
BEGIN:DAYLIGHT
TZOFFSETFROM:-0600
TZOFFSETTO:-0500
TZNAME:CDT
DTSTART:20250309T080000
END:DAYLIGHT
BEGIN:STANDARD
TZOFFSETFROM:-0500
TZOFFSETTO:-0600
TZNAME:CST
DTSTART:20251102T070000
END:STANDARD
BEGIN:DAYLIGHT
TZOFFSETFROM:-0600
TZOFFSETTO:-0500
TZNAME:CDT
DTSTART:20260308T080000
END:DAYLIGHT
BEGIN:STANDARD
TZOFFSETFROM:-0500
TZOFFSETTO:-0600
TZNAME:CST
DTSTART:20261101T070000
END:STANDARD
BEGIN:DAYLIGHT
TZOFFSETFROM:-0600
TZOFFSETTO:-0500
TZNAME:CDT
DTSTART:20270314T080000
END:DAYLIGHT
BEGIN:STANDARD
TZOFFSETFROM:-0500
TZOFFSETTO:-0600
TZNAME:CST
DTSTART:20271107T070000
END:STANDARD
END:VTIMEZONE
BEGIN:VEVENT
DTSTART;VALUE=DATE:20260117
DTEND;VALUE=DATE:20260118
DTSTAMP:20260422T175842
CREATED:20260102T004033Z
LAST-MODIFIED:20260112T193222Z
UID:22623-1768608000-1768694399@region10sai.org
SUMMARY:Harmony: For Good - Youth Chorus Workshop
DESCRIPTION:Join us for a one-day barbershop a cappella event in Austin with Queen of Harmony Caroline Durrett – award winning lead singer of 2023 Sweet Adelines International Champion Quartet: The Ladies! This a cappella workshop is open to girls ages 25 and under\, at any experience level\, with the majority of singers coming from local middle and high schools or community choirs.\n\n\nThis chorus will spend the day together learning and singing For Good (Wicked) and Something To Talk About (Bonnie Raitt) in exciting 4-part barbershop a cappella harmony. Music and learning media are available so that you can prepare for this exciting opportunity! You DO NOT need to have music memorized for this event. \n\n\nEvent Date: Saturday\, January 17\, 2026\n\nHoliday Inn Austin – Town Lake\n20 N Interstate Hwy 35\, Austin\, TX 78701\nOnly $10 to participate!\n•••\nEvent Time: 9AM-5:30PM Workshop & 7PM Performance!\n\n\nOur youth event is graciously hosted by Great Gulf Coast Region 10 Sweet Adelines\, a non-profit organization that provides barbershop harmony music education and performance opportunities to women of all ages in our community. The evening show will include our youth chorus workshop performance\, as well as live performances from Region 10 quartets who are attending the Great Gulf Coast Region 10 Sweet Adelines “Winter Workshop” education seminar taking place at the same time in the adjacent hotel ballrooms.\n\n\n\n\n\n\n\n\n\n\n\n\n\n\nQuick Links & Info:\n• Register now to join us on January 17th! \nSingers wishing to participate should sign up ASAP to secure a spot\, access the music/recordings\, and so that our team can prepare for the event!   \nFor your convenience: \n• Harmony – For Good – Schedule \n• Harmony – For Good – QR Code Flyer \nSongs and Learning Media (available after registration)\n– For Good (Wicked)\n– Something To Talk About (Bonnie Raitt) \nThe Harmony: For Good – youth event is a one-day Saturday workshop\, so overnight stay is not required. If you are traveling for the workshop and would like to stay overnight at the hotel (Friday or Saturday night)\, you are welcome to reserve your stay using our group discount. This discount is only available if booked by January 12th\, 2026. \nQuestions? Contact youth@region10sai.org!\n \n\n\n\n\nMeet this year’s Youth Chorus Director…\n\nCAROLINE DURRETT\n \nCaroline Durrett is an accomplished barbershop educator\, clinician\, and director with a deep commitment to nurturing young singers both musically and personally. A Sweet Adelines International Queen of Harmony with The Ladies Quartet\, Caroline brings firsthand experience at the highest level of the art form—along with a thoughtful\, youth-centered approach that makes her an exceptional leader for emerging singers. \nCaroline holds a Master’s degree in Counseling\, which uniquely equips her to support the mental\, emotional\, and social well-being of young performers. As a music educator and coach\, she is especially skilled at helping singers build confidence\, healthy vocal habits\, teamwork skills\, and resilience—tools that serve students not only on the risers\, but in everyday life. Parents value Caroline’s ability to create a positive\, encouraging learning environment where students feel safe\, supported\, and empowered to grow. \nIn addition to her barbershop work\, Caroline is an active choral musician and director\, performing with the Highland Park Chorale and other Dallas ensembles. Her musical background spans classical\, choral\, Broadway\, pop\, folk\, and a cappella styles\, giving her a broad perspective that resonates with today’s young singers. Caroline’s professional credits include recording and vocal work for The Biggest Little Farm and Walker\, Texas Ranger\, reflecting her versatility and real-world industry experience. \nHarmony: For Good marks Caroline’s third time serving as director for Region 10’s Young Women in Harmony programming. Her return speaks volumes—she is a trusted\, beloved leader who consistently inspires students to sing with confidence\, connect with others\, and find joy in music. We are thrilled to welcome her back to guide and encourage the next generation of barbershop singers. \n\n\n\n \n\nFor more information about youth programming\, please visit www.region10sai.org/youth. \nWe look forward to seeing you there!
URL:https://region10sai.org/event/youthworkshop2026/
LOCATION:Holiday Inn Austin Town Lake\, 20 N Interstate Hwy 35\, Austin\, TX\, 78701\, United States
CATEGORIES:Region 10 Events
ATTACH;FMTTYPE=image/png:https://region10sai.org/wp-content/uploads/2026/01/2026-Youth-Chorus-Event.png
END:VEVENT
BEGIN:VEVENT
DTSTART;VALUE=DATE:20260416
DTEND;VALUE=DATE:20260419
DTSTAMP:20260422T175842
CREATED:20250729T212042Z
LAST-MODIFIED:20260130T235332Z
UID:22393-1776297600-1776556799@region10sai.org
SUMMARY:63rd Annual Convention & Competition
DESCRIPTION:Reach For The Stars!\nApril 16-18\, 2026 \nDoubleTree by Hilton Hotel Houston Hobby Airport – HOUSTON\, TEXAS\, USA \n \n\n\n\nVisit our Convention Hub for details!
URL:https://region10sai.org/event/convention2026/
LOCATION:DoubleTree by Hilton Hotel Houston Hobby Airport\, 8181 Airport Blvd\, Houston\, 77061\, United States
CATEGORIES:Region 10 Events
ATTACH;FMTTYPE=image/png:https://region10sai.org/wp-content/uploads/2025/07/2026-Contest-Website-Event.png
END:VEVENT
BEGIN:VEVENT
DTSTART;VALUE=DATE:20260612
DTEND;VALUE=DATE:20260614
DTSTAMP:20260422T175842
CREATED:20250703T225000Z
LAST-MODIFIED:20260305T024701Z
UID:22352-1781222400-1781395199@region10sai.org
SUMMARY:Summer Splash
DESCRIPTION:SAVE THE DATE for Summer Splash! \nJune 12–13\, 2026 | Sheraton North Houston GBIA | Houston\, TX\n\n\n\n\n\n\n\n\n\n\n\n\n☀️ Make Waves at Summer Splash 2026! ☀️Get ready to dive into harmony at Summer Splash\, coming June 2026 to Houston\, Texas! This sizzling barbershop education event is your chance to soak up summer education\, boost your vocal skills\, and connect with passionate singers from across the region. \nWhether you’re singing tags ’til midnight or leveling up your ensemble performance\, Summer Splash is where fun meets fabulous barbershop growth. \nMark your calendars and pack your pitch pipe—this is one splash you won’t want to miss! \n\nFaculty TBA \n\n\n\n\n\n\n\nWHAT TO EXPECT: Class Schedule & Handouts TBA \nREGISTRATION: TBA \n\n\nSATURDAY MEAL:  TBA \n\n\n\n\n\nSATURDAY NIGHT: TBA \nWHERE TO STAY: Sheraton North Houston at GBIA – 15700 John F Kennedy Blvd\, Houston\, TX 77032. Book now: $99/night Region 10 Group Rate. Last day to book is May 22\, 2026. \nReminders: TBA.  \n\n\n\n\n\n\n\n\n\n\n\n\n\n\n\n\n\nYou can learn more about our faculty below!\n  \n\nFACULTY TBA\n  \nMore information coming soon. \n\nStay tuned for updates about this event!
URL:https://region10sai.org/event/summer2026/
LOCATION:Sheraton North Houston at George Bush Intercontinental Airport\, 15700 John F Kennedy Blvd\, Houston\, 77032\, United States
CATEGORIES:Region 10 Events
ATTACH;FMTTYPE=image/png:https://region10sai.org/wp-content/uploads/2025/01/Summer-Splash-Placeholder.png
END:VEVENT
END:VCALENDAR