BEGIN:VCALENDAR
VERSION:2.0
PRODID:-//Region 10 Sweet Adelines - ECPv6.15.20//NONSGML v1.0//EN
CALSCALE:GREGORIAN
METHOD:PUBLISH
X-ORIGINAL-URL:https://region10sai.org
X-WR-CALDESC:Events for Region 10 Sweet Adelines
REFRESH-INTERVAL;VALUE=DURATION:PT1H
X-Robots-Tag:noindex
X-PUBLISHED-TTL:PT1H
BEGIN:VTIMEZONE
TZID:America/Chicago
BEGIN:DAYLIGHT
TZOFFSETFROM:-0600
TZOFFSETTO:-0500
TZNAME:CDT
DTSTART:20230312T080000
END:DAYLIGHT
BEGIN:STANDARD
TZOFFSETFROM:-0500
TZOFFSETTO:-0600
TZNAME:CST
DTSTART:20231105T070000
END:STANDARD
BEGIN:DAYLIGHT
TZOFFSETFROM:-0600
TZOFFSETTO:-0500
TZNAME:CDT
DTSTART:20240310T080000
END:DAYLIGHT
BEGIN:STANDARD
TZOFFSETFROM:-0500
TZOFFSETTO:-0600
TZNAME:CST
DTSTART:20241103T070000
END:STANDARD
BEGIN:DAYLIGHT
TZOFFSETFROM:-0600
TZOFFSETTO:-0500
TZNAME:CDT
DTSTART:20250309T080000
END:DAYLIGHT
BEGIN:STANDARD
TZOFFSETFROM:-0500
TZOFFSETTO:-0600
TZNAME:CST
DTSTART:20251102T070000
END:STANDARD
END:VTIMEZONE
BEGIN:VEVENT
DTSTART;VALUE=DATE:20240725
DTEND;VALUE=DATE:20240728
DTSTAMP:20260422T054407
CREATED:20230919T154514Z
LAST-MODIFIED:20240205T052340Z
UID:20665-1721865600-1722124799@region10sai.org
SUMMARY:Directors & Visual Leaders Seminar
DESCRIPTION:Directors & Visual Leaders Seminar\nJuly 25-27\, 2024 \nTULSA\, OKLAHOMA\, USA \nIgnite your ideas\, innovate your skills\, imagine the possibilities!\nJoin us July 25-27 in Tulsa\, Oklahoma\, for the 2024 Directors and Visual Leaders Seminar\, “Imagine If!” This educational event benefits Frontline Directors\, Assistant Directors\, Visual Leaders\, and Musical Leaders. \nYou can now register online\, via mail\, or fax!\n\nVisit our Registration Page for complete details like what’s included in your registration\, how to add Friday and Saturday dinner\, the cancellation policy\, etc.\nRegister Online\nDownload the Registration Form\nView the Class Descriptions\nView the Event Schedule\n\n\nRegistration includes your room at the Hyatt Regency Downtown Tulsa Hotel from check-in on Thursday\, July 25 to check-out on Sunday\, July 28.\n\nVisit our Hotel Page for complete details.\n\nDVLS includes admission to watch the Rising Star and Diamond Division Quartet Contests.\n\nRising Star is on Friday\, July 26.\nDiamond Division is on Saturday\, July 27.\n\nNow for the fun part!\nFind out all about the classes\, see the hour-by-hour event schedule\, meet the co-chairs\, faculty\, and guest faculty. \n\nView the Class Descriptions\nView the Event Schedule\n\n \nMaster Director status\, multiple international stage appearances\, a past international president\, and they have crowns! Meet the co-chairs\, Anne Downton and Joan Boutilier. \n \nPrepare to be inspired…Meet the fabulous Sweet Adelines Faculty! \n \nHe is a two-time Grammy and Emmy Award-winning vocal arranger\, producer\, engineer\, and educator from Los Angeles\, California (USA). Meet the Guest Faculty\, Ben Bram! \nScholarship Recipient Announcement\nThe scholarship cycle closed January 25\, 2024. All candidates will be notified of their application status no later than May 2024. Winners will be announced after all scholarship applicants have been personally notified. Please direct questions to scholarships@sweetadelines.com. \nEvent Questions?\nContact our Events Department via events@sweetadelines.com. \n\n\n\nfrom: https://sweetadelines.com/directors-seminar
URL:https://region10sai.org/event/dvls2024/
CATEGORIES:Region 10 Events
ATTACH;FMTTYPE=image/jpeg:https://region10sai.org/wp-content/uploads/2023/09/2024-DVL-Seminar.jpeg
END:VEVENT
END:VCALENDAR