BEGIN:VCALENDAR
VERSION:2.0
PRODID:-//Region 10 Sweet Adelines - ECPv6.15.20//NONSGML v1.0//EN
CALSCALE:GREGORIAN
METHOD:PUBLISH
X-ORIGINAL-URL:https://region10sai.org
X-WR-CALDESC:Events for Region 10 Sweet Adelines
REFRESH-INTERVAL;VALUE=DURATION:PT1H
X-Robots-Tag:noindex
X-PUBLISHED-TTL:PT1H
BEGIN:VTIMEZONE
TZID:America/Chicago
BEGIN:DAYLIGHT
TZOFFSETFROM:-0600
TZOFFSETTO:-0500
TZNAME:CDT
DTSTART:20230312T080000
END:DAYLIGHT
BEGIN:STANDARD
TZOFFSETFROM:-0500
TZOFFSETTO:-0600
TZNAME:CST
DTSTART:20231105T070000
END:STANDARD
BEGIN:DAYLIGHT
TZOFFSETFROM:-0600
TZOFFSETTO:-0500
TZNAME:CDT
DTSTART:20240310T080000
END:DAYLIGHT
BEGIN:STANDARD
TZOFFSETFROM:-0500
TZOFFSETTO:-0600
TZNAME:CST
DTSTART:20241103T070000
END:STANDARD
BEGIN:DAYLIGHT
TZOFFSETFROM:-0600
TZOFFSETTO:-0500
TZNAME:CDT
DTSTART:20250309T080000
END:DAYLIGHT
BEGIN:STANDARD
TZOFFSETFROM:-0500
TZOFFSETTO:-0600
TZNAME:CST
DTSTART:20251102T070000
END:STANDARD
END:VTIMEZONE
BEGIN:VEVENT
DTSTART;VALUE=DATE:20240101
DTEND;VALUE=DATE:20240502
DTSTAMP:20260422T114632
CREATED:20230805T080857Z
LAST-MODIFIED:20240205T072528Z
UID:20476-1704067200-1714607999@region10sai.org
SUMMARY:Bonfire Spirit Shop
DESCRIPTION:Region 10 Spirit Shop!!\nWe have t-shirts (short and long)\, tanks\, hoodies and more available at our Bonfire Spirit Shop! \nVisit our Bonfire store to get your apparel!  \n 
URL:https://region10sai.org/event/bonfire/
CATEGORIES:Region 10 Events
END:VEVENT
BEGIN:VEVENT
DTSTART;VALUE=DATE:20240325
DTEND;VALUE=DATE:20240408
DTSTAMP:20260422T114632
CREATED:20240327T190303Z
LAST-MODIFIED:20240327T190303Z
UID:21148-1711324800-1712534399@region10sai.org
SUMMARY:2024 Convention Webcast (Replay)
DESCRIPTION:Region 10 Webcast is still available!!\n\nIf you missed it\, our webcast will be available thru April 7th! We encourage you to purchase the webcast for $30 which will give you access to the Quartet & Chorus contests\, host commentary\, exclusive interviews with our competitors\, AND the Show of Champions\, which will feature our medalists!\n\n\n\nCongratulations to all competitors in our 61st Annual Convention & Competition!\n\n\n#SweetAdelines #Region10SAI #ComeSingWithUs\n\nwww.region10webcast.com
URL:https://region10sai.org/event/webcast2024/
CATEGORIES:Region 10 Events
ATTACH;FMTTYPE=image/png:https://region10sai.org/wp-content/uploads/2024/03/R10-LSA-Webcast-Event-Website.png
END:VEVENT
END:VCALENDAR