BEGIN:VCALENDAR
VERSION:2.0
PRODID:-//Region 10 Sweet Adelines - ECPv6.15.20//NONSGML v1.0//EN
CALSCALE:GREGORIAN
METHOD:PUBLISH
X-ORIGINAL-URL:https://region10sai.org
X-WR-CALDESC:Events for Region 10 Sweet Adelines
REFRESH-INTERVAL;VALUE=DURATION:PT1H
X-Robots-Tag:noindex
X-PUBLISHED-TTL:PT1H
BEGIN:VTIMEZONE
TZID:America/Chicago
BEGIN:DAYLIGHT
TZOFFSETFROM:-0600
TZOFFSETTO:-0500
TZNAME:CDT
DTSTART:20230312T080000
END:DAYLIGHT
BEGIN:STANDARD
TZOFFSETFROM:-0500
TZOFFSETTO:-0600
TZNAME:CST
DTSTART:20231105T070000
END:STANDARD
BEGIN:DAYLIGHT
TZOFFSETFROM:-0600
TZOFFSETTO:-0500
TZNAME:CDT
DTSTART:20240310T080000
END:DAYLIGHT
BEGIN:STANDARD
TZOFFSETFROM:-0500
TZOFFSETTO:-0600
TZNAME:CST
DTSTART:20241103T070000
END:STANDARD
BEGIN:DAYLIGHT
TZOFFSETFROM:-0600
TZOFFSETTO:-0500
TZNAME:CDT
DTSTART:20250309T080000
END:DAYLIGHT
BEGIN:STANDARD
TZOFFSETFROM:-0500
TZOFFSETTO:-0600
TZNAME:CST
DTSTART:20251102T070000
END:STANDARD
BEGIN:DAYLIGHT
TZOFFSETFROM:-0600
TZOFFSETTO:-0500
TZNAME:CDT
DTSTART:20260308T080000
END:DAYLIGHT
BEGIN:STANDARD
TZOFFSETFROM:-0500
TZOFFSETTO:-0600
TZNAME:CST
DTSTART:20261101T070000
END:STANDARD
END:VTIMEZONE
BEGIN:VEVENT
DTSTART;VALUE=DATE:20241001
DTEND;VALUE=DATE:20250323
DTSTAMP:20260421T232114
CREATED:20241010T165153Z
LAST-MODIFIED:20250806T224818Z
UID:21526-1727740800-1742687999@region10sai.org
SUMMARY:Convention Sponsorship Campaign
DESCRIPTION:  \n\n\n\n\nThis campaign will end at Midnight on the final night of our convention (March 22\, 2025). Our goal is $15\,000.\nWhile our membership numbers have decreased somewhat over the years\, prices continue to rise. We launched this campaign in an effort to keep prices affordable for our members. Please share our sponsorship campaign letter with your family\, friends and businesses that you frequent.  If each member of Region 10 brings in just $100\, we can exceed our goal\, twice over!  We look forward to a spectacular regional contest in March!\nThank you\, in advance\, for your participation in this campaign. \n\n\nEvent graphics provided by Laura DeGraw.
URL:https://region10sai.org/event/sponsorships/
CATEGORIES:Region 10 Events
ATTACH;FMTTYPE=image/png:https://region10sai.org/wp-content/uploads/2024/10/2025-Sponsorship-Campaign-Event.png
END:VEVENT
BEGIN:VEVENT
DTSTART;VALUE=DATE:20241012
DTEND;VALUE=DATE:20241013
DTSTAMP:20260421T232114
CREATED:20240622T092524Z
LAST-MODIFIED:20250806T224748Z
UID:21327-1728691200-1728777599@region10sai.org
SUMMARY:Fall Fling (Online) with Jen Cooke
DESCRIPTION:Our Fall Fling event will be online this year\, with education from Jen Cooke! \n>> Register for Fall Fling Online <<\n\nDate: October 12\, 2024\nAll Online Classes\nFaculty: Jen Cooke\, bio at the bottom of this page!\n\n\n\n\nSchedule for the day:\n  \n\n9:00 – 10:30: Finding New Members\nClass description: Details on how to successfully market the chorus to singers.\n\n\n\nTopics include identifying the target audience\, how and where to find potential members\, and how to successfully brand/market your chorus.\n\n\n15 minute break\n  \n\n10:45 – 12:15: Membership from A to Z\nClass description: Overview of what encompasses a healthy chorus membership program:\n\n\nIncorporating your membership program to the chorus mission/vision.\nWhy it’s important to connect to the larger organization.\nCreating an effective membership committee\nHow all the elements work together to create a cohesive and successful culture of membership\n\n\n15 minute break\n  \n\n12:30 – 3:00: Data…it’s not just for Baritones!\nClass description: Did you know we have actually done market research for your specific areas? Grab your lunch and join the Carin\, Alice\, Sue\, Bev\, and the rest of the team for a working lunch\, learning how to use this data to increase your membership efforts. Your chorus data can be found here: Marketing and Membership Research by Chorus\n\n\n\n\n\n\nAs this is an online event\, please double check that your Zoom account is up to date with the latest updates to prevent issues with logging on that we can’t address from our end. In addition\, if it’s been a while since you’ve attended an online class\, please review the process of using Zoom.\n\n  \nThe Zoom link for the event will be sent on Friday evening\, Oct. 11. \nA recording of these classes will be available to members at a later date.\n\n\n\n\n\n\n\n>> Register for Fall Fling Online <<\n\nYou can learn more about our clinician below! \n \nJen Cooke\nJen started singing barbershop at a young age with her mom\, dad\, and sister in Marion\, Ohio. She brought this love of four-part harmony with her to Nashville\, Tennessee\, where she joined Sweet Adelines International (SA) in 2000.  She has since joined the Barbershop Harmony Society (BHS) and Harmony\, Inc. (HI) and remains a proud member of all three organizations. \n\nJen is a Certified Director through Sweet Adelines’ Director Certification Program and has achieved the status of Master Director.  She is also a past member of the SA International Board of Directors and served on the Regional Leadership Committee and the Young Women in Harmony Committee. \nDuring the COVID lockdown\, Jen created a YouTube channel called “Sing With Jen\,” which encourages tag and canon singing\, allowing singers to learn tags/canons and sing along with the videos.  She also created over 100 virtual choral projects and continued to coach quartets\, choruses\, and individuals online. \nJen has been honored to be a part of the prestigious Harmony University (BHS) faculty and to have taught in Harmony Inc. Virtual Education (HIVE). She has served as a past Membership Coordinator for Region 14 and Education Coordinator for Region 4; she is currently on the Regional Faculty in Regions 4 and 14 (SA). \n\nJen sings with Presto!\, current international 12th place quartet (SA) and Just Sayin’ quartet (HI). She is also a member of Song of Atlanta Chorus (SA)\, Bluegrass Harmony Chorus (HI)\, and Great River Voices (BHS). Jen has been the front-line director for Scenic City Chorus (SA) in Chattanooga\, TN\, for the past 13 years and is also currently directing Music City Sound (HI)\, a hybrid-virtual chorus based in Nashville\, TN. \nJen continues to coach in SA\, BHS\, and HI\, both in person and online.  For the past three years\, she has been honored to receive the Judy St. John Coach of the Year award (SA).  She also creates learning media and currently has tracks for over 1\,200 songs on her website. \nJen’s love of barbershop music has created an enthusiasm for musical excellence and education throughout her life\, and she is passionate about sharing this with others! \n\n>> Register for Fall Fling Online <<\n\n\nEvent graphics provided by Laura DeGraw.
URL:https://region10sai.org/event/fallfling2024/
CATEGORIES:Region 10 Events
ATTACH;FMTTYPE=image/png:https://region10sai.org/wp-content/uploads/2024/06/Fall-Fling-2024-Web.png
END:VEVENT
BEGIN:VEVENT
DTSTART;VALUE=DATE:20241028
DTEND;VALUE=DATE:20241103
DTSTAMP:20260421T232114
CREATED:20240622T085750Z
LAST-MODIFIED:20241030T153228Z
UID:21324-1730073600-1730591999@region10sai.org
SUMMARY:76th Annual International Convention & Competition
DESCRIPTION:Get ready for jazz music\, great barbecue\, and\, of course\, spectacular barbershop singing.\n \nSee more details at www.sweetadelines.com/kansascity
URL:https://region10sai.org/event/76th-annual-international-convention-competition/
CATEGORIES:Region 10 Events
ATTACH;FMTTYPE=image/png:https://region10sai.org/wp-content/uploads/2024/06/2024-Kansas-City-Event.png
END:VEVENT
BEGIN:VEVENT
DTSTART;TZID=America/Chicago:20241029T134500
DTEND;TZID=America/Chicago:20241029T140000
DTSTAMP:20260421T232114
CREATED:20241028T143445Z
LAST-MODIFIED:20250806T224725Z
UID:21582-1730209500-1730210400@region10sai.org
SUMMARY:Kansas City Competitor Pep Rally
DESCRIPTION:Join us for a quick Pep Rally to cheer on our Kansas City competitors: SAVING GRACE QUARTET & THE WOODLANDS SHOW CHORUS before they hit the stage this week!\n\n  \nThis celebration will be hosted by Region 10 Hall of Famer Cheryl Pyle! We will use TWSC’s rehearsal space\, so please be mindful as you arrive so as not to disturb their ongoing rehearsal. We will begin promptly at 1:45pm and then we will need to vacate at 2pm to make room for the next chorus rehearsal on SAI’s schedule.\n  \n\nTuesday\, October 29th\, 2024KCCC ROOM 2501 B1:45pm – 2:00pm\n\n  \nSee you there!\n\n\n\nEvent graphics provided by Laura DeGraw.
URL:https://region10sai.org/event/peprally2024/
CATEGORIES:Region 10 Events
ATTACH;FMTTYPE=image/png:https://region10sai.org/wp-content/uploads/2024/10/2024-Region-10-Pep-Rally.png
END:VEVENT
END:VCALENDAR