BEGIN:VCALENDAR
VERSION:2.0
PRODID:-//Region 10 Sweet Adelines - ECPv6.15.20//NONSGML v1.0//EN
CALSCALE:GREGORIAN
METHOD:PUBLISH
X-ORIGINAL-URL:https://region10sai.org
X-WR-CALDESC:Events for Region 10 Sweet Adelines
REFRESH-INTERVAL;VALUE=DURATION:PT1H
X-Robots-Tag:noindex
X-PUBLISHED-TTL:PT1H
BEGIN:VTIMEZONE
TZID:America/Chicago
BEGIN:DAYLIGHT
TZOFFSETFROM:-0600
TZOFFSETTO:-0500
TZNAME:CDT
DTSTART:20240310T080000
END:DAYLIGHT
BEGIN:STANDARD
TZOFFSETFROM:-0500
TZOFFSETTO:-0600
TZNAME:CST
DTSTART:20241103T070000
END:STANDARD
BEGIN:DAYLIGHT
TZOFFSETFROM:-0600
TZOFFSETTO:-0500
TZNAME:CDT
DTSTART:20250309T080000
END:DAYLIGHT
BEGIN:STANDARD
TZOFFSETFROM:-0500
TZOFFSETTO:-0600
TZNAME:CST
DTSTART:20251102T070000
END:STANDARD
BEGIN:DAYLIGHT
TZOFFSETFROM:-0600
TZOFFSETTO:-0500
TZNAME:CDT
DTSTART:20260308T080000
END:DAYLIGHT
BEGIN:STANDARD
TZOFFSETFROM:-0500
TZOFFSETTO:-0600
TZNAME:CST
DTSTART:20261101T070000
END:STANDARD
END:VTIMEZONE
BEGIN:VEVENT
DTSTART;VALUE=DATE:20251020
DTEND;VALUE=DATE:20251026
DTSTAMP:20260421T092633
CREATED:20250124T034757Z
LAST-MODIFIED:20250520T053120Z
UID:21772-1760918400-1761436799@region10sai.org
SUMMARY:77th Annual International Convention & Competition
DESCRIPTION:77th Annual International Convention and Competition\n\nWhere voices soar\, friendships grow\, and champions are made.\nThere’s only one Sweet Adelines Convention Feeling: Find it in Columbus\, Ohio\, October 20–25. \n\n\nEarly Bird Registration\nEducation Events\nFamily Chorus\nHotel Block\n\n\n\n\n\n\n\n\n\n\n\n\n \nRegister Now\, Early Birds!\n\nTake me to Event Registration\nView the Schedule of Events\n\n\n\n\n\n\n\n\n\n\nRing Chords in Columbus!\n\n \n\nArrive Early\, Learn Big\, Win Prizes!\nGet to Columbus early for Monday education events and classes including lively “passport rounds” and “Tag-Outs!” with Queens. You’ll also have a chance to win prizes! \nAlso enjoy expert panel discussions and barbershop arranging on Tuesday and classes with International Champions on Friday and Saturday. \nShow me all Education Events!\n\nRaise your voice with Family Chorus in Columbus!\nCo-directed by Kim Wonders and Natalie Allen of the Metro Nashville Chorus\, this is going to be a Family Chorus to remember! \n \nThe Family Chorus will light up the international stage on Saturday\, October 25\, right after the Chorus Finals. \nSweet Adelines\, friends\, and family members—sign up to sing! \nSign up for Family Chorus!\n\n\n\n\n\n\n\n\n\n\n\n\n\n\n\n\n\n \nCompetition Schedule\nHarmony Classic • Tuesday\, October 21\nQuartet Semifinals • Wednesday\, October 22\nChorus Semifinals • Thursday\, October 23\nQuartet Finals • Friday\, October 24\nChorus Finals • Saturday\, October 25 \nOrder of Events:\nHarmony Classic\nQuartet Semifinals\nChorus Semifinals\n\n\n\n\n\n\n\n\n\n\n\n\nSee more details at www.sweetadelines.com/columbus2025
URL:https://region10sai.org/event/77th-annual-international-convention-competition/
CATEGORIES:Region 10 Events
ATTACH;FMTTYPE=image/jpeg:https://region10sai.org/wp-content/uploads/2025/01/2025-Columbus-thumbnail.jpeg
END:VEVENT
BEGIN:VEVENT
DTSTART;TZID=America/Chicago:20251020T213000
DTEND;TZID=America/Chicago:20251020T220000
DTSTAMP:20260421T092633
CREATED:20250729T220439Z
LAST-MODIFIED:20250906T225505Z
UID:22396-1760995800-1760997600@region10sai.org
SUMMARY:Columbus Competitor Pep Rally
DESCRIPTION:Join us for a quick Pep Rally to cheer on our Columbus international competitors: Essence\, Saving Grace\, Alamo Metro\, Houston Horizon\, and Crescent City Sound before they all hit the stage! \n\nThis event will take place on Monday\, October 20\, 2025\, from 9:30-10:00pm at the Greater Columbus Convention Center\, rooms A220-A225. \n  \nSee you there!
URL:https://region10sai.org/event/peprally2025/
CATEGORIES:Region 10 Events
ATTACH;FMTTYPE=image/png:https://region10sai.org/wp-content/uploads/2025/07/2025-Pep-Rally-Website.png
END:VEVENT
END:VCALENDAR