BEGIN:VCALENDAR
VERSION:2.0
PRODID:-//Region 10 Sweet Adelines - ECPv6.15.20//NONSGML v1.0//EN
CALSCALE:GREGORIAN
METHOD:PUBLISH
X-WR-CALNAME:Region 10 Sweet Adelines
X-ORIGINAL-URL:https://region10sai.org
X-WR-CALDESC:Events for Region 10 Sweet Adelines
REFRESH-INTERVAL;VALUE=DURATION:PT1H
X-Robots-Tag:noindex
X-PUBLISHED-TTL:PT1H
BEGIN:VTIMEZONE
TZID:America/Chicago
BEGIN:DAYLIGHT
TZOFFSETFROM:-0600
TZOFFSETTO:-0500
TZNAME:CDT
DTSTART:20240310T080000
END:DAYLIGHT
BEGIN:STANDARD
TZOFFSETFROM:-0500
TZOFFSETTO:-0600
TZNAME:CST
DTSTART:20241103T070000
END:STANDARD
BEGIN:DAYLIGHT
TZOFFSETFROM:-0600
TZOFFSETTO:-0500
TZNAME:CDT
DTSTART:20250309T080000
END:DAYLIGHT
BEGIN:STANDARD
TZOFFSETFROM:-0500
TZOFFSETTO:-0600
TZNAME:CST
DTSTART:20251102T070000
END:STANDARD
BEGIN:DAYLIGHT
TZOFFSETFROM:-0600
TZOFFSETTO:-0500
TZNAME:CDT
DTSTART:20260308T080000
END:DAYLIGHT
BEGIN:STANDARD
TZOFFSETFROM:-0500
TZOFFSETTO:-0600
TZNAME:CST
DTSTART:20261101T070000
END:STANDARD
END:VTIMEZONE
BEGIN:VEVENT
DTSTART;VALUE=DATE:20250727
DTEND;VALUE=DATE:20250728
DTSTAMP:20260421T122121
CREATED:20250702T210753Z
LAST-MODIFIED:20250702T210922Z
UID:22311-1753574400-1753660799@region10sai.org
SUMMARY:Chapter Event: Houston Horizon - One of Those Songs
DESCRIPTION:One of Those Songs: Ice Cream Social Summer Show\nSave the date for a delightful day of music\, ice cream\, and summer fun! \nHouston Horizon Chorus is excited to host “One of Those Songs”\, our Ice Cream Social Summer Show on Sunday\, July 27\, 2025\, at the Immanuel Lutheran Church in the Heights. \nThis event promises to be a refreshing afternoon where you can beat the heat while enjoying harmonious performances\, delicious ice cream\, and family-friendly activities. Houston Horizon Chorus will present a variety of a cappella classics and beloved melodies\, and we are thrilled to welcome the Sweet Adelines International Region 10 Champion Quartet\, Essence\, for an unforgettable performance! \nUse the code “earlybird” to save 20% from now until July 13! \nCheck in & Silent Auction begins from 1:40pm. Doors open for performance at 2:00pm. Show begins at 2:15pm. Complimentary ice cream will be served after the show concludes. \n\nBuy Tickets: https://houstonhorizonchorus.betterworld.org/events/ice-cream-social-summer-show \n\nPlease check for updates from Houston Horizon Chorus at their chapter website: https://houstonhorizonchorus.betterworld.org.
URL:https://region10sai.org/event/hhc-summer2025/
LOCATION:Immanuel Lutheran Church (LCMS)\, 306 E 15th St\, Houston\, 77008\, United States
CATEGORIES:Chapter Shows
ATTACH;FMTTYPE=image/png:https://region10sai.org/wp-content/uploads/2023/07/Chapter-Event.png
END:VEVENT
END:VCALENDAR