BEGIN:VCALENDAR
VERSION:2.0
PRODID:-//Region 10 Sweet Adelines - ECPv6.15.20//NONSGML v1.0//EN
CALSCALE:GREGORIAN
METHOD:PUBLISH
X-WR-CALNAME:Region 10 Sweet Adelines
X-ORIGINAL-URL:https://region10sai.org
X-WR-CALDESC:Events for Region 10 Sweet Adelines
REFRESH-INTERVAL;VALUE=DURATION:PT1H
X-Robots-Tag:noindex
X-PUBLISHED-TTL:PT1H
BEGIN:VTIMEZONE
TZID:America/Chicago
BEGIN:DAYLIGHT
TZOFFSETFROM:-0600
TZOFFSETTO:-0500
TZNAME:CDT
DTSTART:20240310T080000
END:DAYLIGHT
BEGIN:STANDARD
TZOFFSETFROM:-0500
TZOFFSETTO:-0600
TZNAME:CST
DTSTART:20241103T070000
END:STANDARD
BEGIN:DAYLIGHT
TZOFFSETFROM:-0600
TZOFFSETTO:-0500
TZNAME:CDT
DTSTART:20250309T080000
END:DAYLIGHT
BEGIN:STANDARD
TZOFFSETFROM:-0500
TZOFFSETTO:-0600
TZNAME:CST
DTSTART:20251102T070000
END:STANDARD
BEGIN:DAYLIGHT
TZOFFSETFROM:-0600
TZOFFSETTO:-0500
TZNAME:CDT
DTSTART:20260308T080000
END:DAYLIGHT
BEGIN:STANDARD
TZOFFSETFROM:-0500
TZOFFSETTO:-0600
TZNAME:CST
DTSTART:20261101T070000
END:STANDARD
END:VTIMEZONE
BEGIN:VEVENT
DTSTART;VALUE=DATE:20250324
DTEND;VALUE=DATE:20250407
DTSTAMP:20260421T194348
CREATED:20250324T152256Z
LAST-MODIFIED:20250806T224703Z
UID:22141-1742774400-1743983999@region10sai.org
SUMMARY:2025 Webcast Replay
DESCRIPTION:SURPRISE! If you missed the live broadcast\, we are offering access to the online archives for $15 between March 24th – April 6th! Visit www.region10webcast.com to access the webcast replay. \n✨✨ \nBack by popular demand! Region 10 has an official webcast again this year\, which includes the Quartet Contest\, Chorus Contest\, Web-host Commentary\, Competitor Interviews\, Show of Champions\, and delayed viewing for 2 weeks following our convention. \nRegion 10 Hall of Famer Cheryl Pyle is back as our Host Anchor\, with guest Co-Hosts Katy Dane (Friday) and Denise Fly (Saturday)! \nDetails about the convention\, including programs\, contest results\, and more are available at www.region10sai.org/convention. \n\n62nd Annual Convention & Competition\n \n\n\n\nPlease visit Our Convention Hub!\n\n\nEvent graphics provided by Laura DeGraw.
URL:https://region10sai.org/event/webcastreplay2025/
CATEGORIES:Region 10 Events
END:VEVENT
END:VCALENDAR